BEGIN:VCALENDAR
VERSION:2.0
PRODID:-//wp-events-plugin.com//7.2.3.1//EN
TZID:Europe/Berlin
X-WR-TIMEZONE:Europe/Berlin
BEGIN:VEVENT
UID:166@kneipenkonzerte.de
DTSTART;TZID=Europe/Berlin:20160604T210000
DTEND;TZID=Europe/Berlin:20160605T000000
DTSTAMP:20160530T072012Z
URL:https://kneipenkonzerte.de/veranstaltungen/harpface-the-heydays/
SUMMARY:Harpface &amp\; The Heydays
DESCRIPTION:Die Mischung macht es! Seitdem Harpface &amp\; The Heydays die 
 Bühnen diverser Liveläden geentert haben\, besteht die Reaktion des Publ
 ikums durchgängig aus Begeisterung. Noch mehr jedoch aus Überraschung ü
 ber das Können und die seltene musikalische Mixtur des Fünfers.Der Sloga
 n“ Rock and Soul meets Blues and Roll“ ist lediglich eine Annäherung 
 an dieses Unikat.Die Assoziation von Mundharmonika = lupenreiner Blues ist
  schon nach den ersten Minuten ihrer Konzerte Geschichte. Satte und somit 
 tanzbare Grooves\, ein das Publikum berührender Frontmann und solistische
  Feuerwerke sorgen zuverlässig für ein äußerst unterhaltsames Konzerte
 rlebnis.
ATTACH;FMTTYPE=image/jpeg:https://kneipenkonzerte.de/wp-content/uploads/20
 16/05/Harpface-The-Heydays-klein.jpg
CATEGORIES:Blues
LOCATION:Kuddels Musikkneipe\, Goethestraße 1 \, Bremerhaven\, Bemen\, 275
 76 \, Bremen\, Deutschland
GEO:53.55244;8.580050000000028
X-APPLE-STRUCTURED-LOCATION;VALUE=URI;X-ADDRESS=Goethestraße 1 \, Bremerha
 ven\, Bemen\, 27576 \, Bremen\, Deutschland;X-APPLE-RADIUS=100;X-TITLE=Kud
 dels Musikkneipe:geo:53.55244,8.580050000000028
END:VEVENT
BEGIN:VTIMEZONE
TZID:Europe/Berlin
X-LIC-LOCATION:Europe/Berlin
BEGIN:DAYLIGHT
DTSTART:20160327T030000
TZOFFSETFROM:+0100
TZOFFSETTO:+0200
TZNAME:CEST
END:DAYLIGHT
END:VTIMEZONE
END:VCALENDAR