BEGIN:VCALENDAR
VERSION:2.0
PRODID:-//wp-events-plugin.com//7.2.3.1//EN
TZID:Europe/Berlin
X-WR-TIMEZONE:Europe/Berlin
BEGIN:VEVENT
UID:4919@kneipenkonzerte.de
DTSTART;TZID=Europe/Berlin:20220806T190000
DTEND;TZID=Europe/Berlin:20220806T230000
DTSTAMP:20220506T234903Z
URL:https://kneipenkonzerte.de/veranstaltungen/high-fidelity-filou/
SUMMARY:High Fidelity
DESCRIPTION:Zum ersten Mal bei uns im Filou!\nLässiger Folk-Rock im West-C
 oast-Sound mit Americana-Vibes der Siebziger: Dafür steht die aus Hannove
 r stammende Band High Fidelity. Nach ihrer Gründung im Jahr 2017\, legten
  die vier Musiker bereits im Folgejahr ihre erste\, selbstbetitelte EP vor
 . Dass in den privaten Plattenschränken der Bandmitglieder Alben von The 
 Allman Brothers\,\nAmerica\, Neil Young oder J.J. Cale in Reichweite stehe
 n\, ist ein treffsicherer Hinweis auf wichtige Inspirationsquellen und die
  eigene musikalische Sozialisation.\n\nKonzertbesucher kennen High Fidelit
 y vor allem als charismatische Liveband\, als Voll-und Herzblutmusiker. Ne
 ben eigenen Clubshows und Festival-Auftritten teilte man als Support oder 
 Special Guest die Tourbühnen mit Bands wie The Parlotones (RSA)\, The Dam
 n Truth (CAN)\, Black River Delta (S)\, Blackberries oder The Big Swamp (D
 ).\nMit „Come Rain Or Shine“ gehen High Fidelity wieder auf Konzertrei
 se und kommen ins Steinhuder Filou um dort auf viele bekannte und neue Men
 schen zu treffen.\nEintritt frei – im Anschluß geht der Hut rum. Einlas
 s ab 19 Uhr\, Beginn des Konzertes ca. 20 Uhr.\n\n&nbsp\;
ATTACH;FMTTYPE=image/jpeg:https://kneipenkonzerte.de/wp-content/uploads/20
 22/05/High-Fidelity_1_credit_Martin-Huch-scaled.jpeg
CATEGORIES:Blues,Folk-Rock
LOCATION:Filou - Die Kneipe.\, Bleichenstr. 9\, Steinhude\, Niedersachsen\,
  31515\, Hannover\, Deutschland
GEO:52.45768;9.36212
X-APPLE-STRUCTURED-LOCATION;VALUE=URI;X-ADDRESS=Bleichenstr. 9\, Steinhude\
 , Niedersachsen\, 31515\, Hannover\, Deutschland;X-APPLE-RADIUS=100;X-TITL
 E=Filou - Die Kneipe.:geo:52.45768,9.36212
END:VEVENT
BEGIN:VTIMEZONE
TZID:Europe/Berlin
X-LIC-LOCATION:Europe/Berlin
BEGIN:DAYLIGHT
DTSTART:20220327T030000
TZOFFSETFROM:+0100
TZOFFSETTO:+0200
TZNAME:CEST
END:DAYLIGHT
END:VTIMEZONE
END:VCALENDAR