BEGIN:VCALENDAR
VERSION:2.0
PRODID:-//wp-events-plugin.com//7.2.3.1//EN
TZID:Europe/Berlin
X-WR-TIMEZONE:Europe/Berlin
BEGIN:VEVENT
UID:4946@kneipenkonzerte.de
DTSTART;TZID=Europe/Berlin:20221114T190000
DTEND;TZID=Europe/Berlin:20221114T230000
DTSTAMP:20220523T115446Z
URL:https://kneipenkonzerte.de/veranstaltungen/iona-fyfe-trio/
SUMMARY:Iona Fyfe Trio
DESCRIPTION:Iona Fyfe\, Folksängerin aus Aberdeenshire\, hat sich zu einer
  der besten Sängerinnen Schottlands entwickelt\, die tief in den Gesangst
 raditionen des Nordostens Schottlands verwurzelt ist.\nMit ihrer umfangrei
 chen Tourerfahrung ist die erst 23-jährige Iona in ganz Großbritannien\,
  Polen\, Frankreich\, Deutschland\, Österreich\, Italien\, der Schweiz\, 
 Spanien\, der Tschechischen Republik\, Kanada und Australien aufgetreten. 
 Dazu kommen zahlreiche Auftritte in mehreren Fernsehsendungen.
ATTACH;FMTTYPE=image/jpeg:https://kneipenkonzerte.de/wp-content/uploads/20
 22/05/iona-fyfe-by-elly-lucas-14-vii-scaled.jpg
CATEGORIES:Folk
LOCATION:Filou - Die Kneipe.\, Bleichenstr. 9\, Steinhude\, Niedersachsen\,
  31515\, Hannover\, Deutschland
GEO:52.45768;9.36212
X-APPLE-STRUCTURED-LOCATION;VALUE=URI;X-ADDRESS=Bleichenstr. 9\, Steinhude\
 , Niedersachsen\, 31515\, Hannover\, Deutschland;X-APPLE-RADIUS=100;X-TITL
 E=Filou - Die Kneipe.:geo:52.45768,9.36212
END:VEVENT
BEGIN:VTIMEZONE
TZID:Europe/Berlin
X-LIC-LOCATION:Europe/Berlin
BEGIN:STANDARD
DTSTART:20221030T020000
TZOFFSETFROM:+0200
TZOFFSETTO:+0100
TZNAME:CET
END:STANDARD
END:VTIMEZONE
END:VCALENDAR