BEGIN:VCALENDAR
VERSION:2.0
PRODID:-//wp-events-plugin.com//7.2.3.1//EN
TZID:Europe/Berlin
X-WR-TIMEZONE:Europe/Berlin
BEGIN:VEVENT
UID:4061@kneipenkonzerte.de
DTSTART;TZID=Europe/Berlin:20200125T200000
DTEND;TZID=Europe/Berlin:20200125T230000
DTSTAMP:20200123T111151Z
URL:https://kneipenkonzerte.de/veranstaltungen/irische-folknacht-weidenbac
 h/
SUMMARY:Irische Folknacht
DESCRIPTION:Ein Abend voller Magie und Lebensfreude. Die Band "Zauberwald"\
 , auf Gälisch "Draiocht Foraoise"\, nimmt uns mit auf eine musikalische R
 eise über die grüne Insel bis ins heimische Bavaria. Also Original Bayri
 sch Irischer Folk\, verbunden mit schottisch\, Bluegrass &amp\; Country.
ATTACH;FMTTYPE=image/jpeg:https://kneipenkonzerte.de/wp-content/uploads/20
 20/01/cropped-Draíocht-Foraoise-15.jpg
CATEGORIES:Folk
LOCATION:Das Quasimodo\, Am Kreuzweiher 4\, Weidenbach\, Bayern\, 90461\, F
 ranken\, Deutschland
GEO:49.213576;10.645132
X-APPLE-STRUCTURED-LOCATION;VALUE=URI;X-ADDRESS=Am Kreuzweiher 4\, Weidenba
 ch\, Bayern\, 90461\, Franken\, Deutschland;X-APPLE-RADIUS=100;X-TITLE=Das
  Quasimodo:geo:49.213576,10.645132
END:VEVENT
BEGIN:VTIMEZONE
TZID:Europe/Berlin
X-LIC-LOCATION:Europe/Berlin
BEGIN:STANDARD
DTSTART:20191027T020000
TZOFFSETFROM:+0200
TZOFFSETTO:+0100
TZNAME:CET
END:STANDARD
END:VTIMEZONE
END:VCALENDAR