BEGIN:VCALENDAR
VERSION:2.0
PRODID:-//wp-events-plugin.com//7.2.3.1//EN
TZID:Europe/Berlin
X-WR-TIMEZONE:Europe/Berlin
BEGIN:VEVENT
UID:7081@kneipenkonzerte.de
DTSTART;TZID=Europe/Berlin:20251219T200000
DTEND;TZID=Europe/Berlin:20251219T220000
DTSTAMP:20250314T144937Z
URL:https://kneipenkonzerte.de/veranstaltungen/irish-folk-session-homburg-
 4/
SUMMARY:Irish Folk Session Homburg
DESCRIPTION:
CATEGORIES:Folk
LOCATION:Mandys Lounge\, Kirrberger Str. 7\, \, Homburg\, Saarland\, 66424\
 , Saarland\, Deutschland
GEO:49.3168438;7.342028199999959
X-APPLE-STRUCTURED-LOCATION;VALUE=URI;X-ADDRESS=Kirrberger Str. 7\, \, Homb
 urg\, Saarland\, 66424\, Saarland\, Deutschland;X-APPLE-RADIUS=100;X-TITLE
 =Mandys Lounge:geo:49.3168438,7.342028199999959
END:VEVENT
BEGIN:VTIMEZONE
TZID:Europe/Berlin
X-LIC-LOCATION:Europe/Berlin
BEGIN:STANDARD
DTSTART:20251026T020000
TZOFFSETFROM:+0200
TZOFFSETTO:+0100
TZNAME:CET
END:STANDARD
END:VTIMEZONE
END:VCALENDAR