BEGIN:VCALENDAR
VERSION:2.0
PRODID:-//wp-events-plugin.com//7.2.3.1//EN
TZID:Europe/Berlin
X-WR-TIMEZONE:Europe/Berlin
BEGIN:VEVENT
UID:7265@kneipenkonzerte.de
DTSTART;TZID=Europe/Berlin:20251017T200000
DTEND;TZID=Europe/Berlin:20251017T220000
DTSTAMP:20250926T124044Z
URL:https://kneipenkonzerte.de/veranstaltungen/jay-ottaway-the-lost-boys-3
 6/
SUMMARY:Jay Ottaway &amp\; The Lost Boys
DESCRIPTION:Jay Ottaway pflegt eine sehr enge Beziehung zu Europa. Seit meh
 r als 20 Jahren gibt der amerikanische Singer-Songwriter und Gitarrist aus
  Boston hier Konzerte. Seit 2019 mit seinem Quartett Jay Ottaway and The L
 ost Boys \, mit denen er auch seine letzten beiden Platten eingespielt hat
 .\n \nSeine Musik und seine Songs stehen in der Tradition großer amerikan
 ischer Songwriter und Bands wie Dylan and The Band\, Neil Young und Tom Pe
 tty\, haben aber einen eigenen\, unverwechselbaren Sound. Kurz: Wer auf We
 stcoast Blues &amp\; Rock'n'Roll\, viele Gitarren und mehrstimmige Gesäng
 e steht\, ist hier an der richtigen Adresse.\n \nThe Lost Boys haben bei v
 ielen Festivals gastiert\, einschließlich Woodstock Forever\, Street Life
  (Leverkusen) und Grammo-Musik-Festival (Leichlingen) sowie in vielen reno
 mmierten Clubs wie Bielefelder Jazz Club\, Speiches Rock- &amp\; Bluesknei
 pe (Berlin) und Music Star (Norderstedt) gespielt.\n \nZum Quartett gehör
 t Guido Lehmann\, ein hervorragender Country-Rock-Gitarrist und Lap-Steel-
 Spieler\, der bereits mit den Bands Hillbilly Deluxe und The Swamptones in
  ganz Europa gespielt hat. Die Rhythmusgruppe besteht aus Schlagzeuger Kla
 us Marner und Bassist Henrik Herzmann\, beide weitgereisten Meister der eu
 ropäischen Musikszene.
ATTACH;FMTTYPE=image/jpeg:https://kneipenkonzerte.de/wp-content/uploads/20
 25/09/190a0151-pr-ohne-text_mini-3.jpg
CATEGORIES:Blues,Country,Folk,Rock,Singer/Songwriter
LOCATION:Specht\, Friedenshöher Straße 21\, Grödersby\, 24376\, Deutschl
 and
GEO:54.633474;9.9289
X-APPLE-STRUCTURED-LOCATION;VALUE=URI;X-ADDRESS=Friedenshöher Straße 21\,
  Grödersby\, 24376\, Deutschland;X-APPLE-RADIUS=100;X-TITLE=Specht:geo:54
 .633474,9.9289
END:VEVENT
BEGIN:VTIMEZONE
TZID:Europe/Berlin
X-LIC-LOCATION:Europe/Berlin
BEGIN:DAYLIGHT
DTSTART:20250330T030000
TZOFFSETFROM:+0100
TZOFFSETTO:+0200
TZNAME:CEST
END:DAYLIGHT
END:VTIMEZONE
END:VCALENDAR