BEGIN:VCALENDAR
VERSION:2.0
PRODID:-//wp-events-plugin.com//7.2.3.1//EN
TZID:Europe/Berlin
X-WR-TIMEZONE:Europe/Berlin
BEGIN:VEVENT
UID:169@kneipenkonzerte.de
DTSTART;TZID=Europe/Berlin:20160708T190000
DTEND;TZID=Europe/Berlin:20160708T220000
DTSTAMP:20160530T084210Z
URL:https://kneipenkonzerte.de/veranstaltungen/jazz-meets-beats-bielefeld/
SUMMARY:Jazz meets Beats
DESCRIPTION:Salomea Project: "Jazz meets beats"\nFrauen ohne Haare\, geschm
 ückt mit Perlen und bunten Stoffen. Ein Zug\, der dich zurückbringt zu K
 indergelächter und Wolkenbrüchen. Der Geruch von Schwefel steigt dir in 
 die Nase\, du kannst das Brodeln des Vulkans spüren und denkst an all die
  Sommer. Bilder wie diese verarbeitet Rebekka Salomea zu Geschichten in Mu
 sik des\, im weitesten Sinne\, Contemporary Jazz. Sie singt und spricht ih
 re Texte in ihrer Muttersprache Englisch über Grooves und Improvisationen
  ihrer drei Mitmusiker. Einflüsse aus Hip Hop\, Soul und Weltmusik dirigi
 eren den Sound den sie "Jazz meets beats" nennen.\nEintritt frei\, Austrit
 t erwünscht (bei schönem Wetter im Biergarten)
ATTACH;FMTTYPE=image/jpeg:https://kneipenkonzerte.de/wp-content/uploads/20
 16/05/salomea-project.jpg
CATEGORIES:Jazz,Soul
LOCATION:Neue Schmiede\, Handwerkerstraße 7\, Bielefeld\, NRW\, 33617\, Os
 twestfalen\, Deutschland
GEO:52.00880799999999;8.523420100000067
X-APPLE-STRUCTURED-LOCATION;VALUE=URI;X-ADDRESS=Handwerkerstraße 7\, Biele
 feld\, NRW\, 33617\, Ostwestfalen\, Deutschland;X-APPLE-RADIUS=100;X-TITLE
 =Neue Schmiede:geo:52.00880799999999,8.523420100000067
END:VEVENT
BEGIN:VTIMEZONE
TZID:Europe/Berlin
X-LIC-LOCATION:Europe/Berlin
BEGIN:DAYLIGHT
DTSTART:20160327T030000
TZOFFSETFROM:+0100
TZOFFSETTO:+0200
TZNAME:CEST
END:DAYLIGHT
END:VTIMEZONE
END:VCALENDAR