BEGIN:VCALENDAR
VERSION:2.0
PRODID:-//wp-events-plugin.com//7.2.3.1//EN
TZID:Europe/Berlin
X-WR-TIMEZONE:Europe/Berlin
BEGIN:VEVENT
UID:5797@kneipenkonzerte.de
DTSTART;TZID=Europe/Berlin:20220601T183000
DTEND;TZID=Europe/Berlin:20220601T220000
DTSTAMP:20220616T130733Z
URL:https://kneipenkonzerte.de/veranstaltungen/jazz-session-2022-06-01/
SUMMARY:Jazz Session
DESCRIPTION:
ATTACH;FMTTYPE=image/jpeg:https://kneipenkonzerte.de/wp-content/uploads/20
 16/05/cropped-kneipenkonzert-livemusik-veranstaltung-1.jpg
CATEGORIES:Jazz
LOCATION:Landgasthof Heerlein\, Wildensorger Hauptstraße 57\, Bamberg\, Ba
 yern\, 96049\, Franken\, Deutschland
GEO:49.87962;10.859950000000026
X-APPLE-STRUCTURED-LOCATION;VALUE=URI;X-ADDRESS=Wildensorger Hauptstraße 5
 7\, Bamberg\, Bayern\, 96049\, Franken\, Deutschland;X-APPLE-RADIUS=100;X-
 TITLE=Landgasthof Heerlein:geo:49.87962,10.859950000000026
END:VEVENT
BEGIN:VTIMEZONE
TZID:Europe/Berlin
X-LIC-LOCATION:Europe/Berlin
BEGIN:DAYLIGHT
DTSTART:20220327T030000
TZOFFSETFROM:+0100
TZOFFSETTO:+0200
TZNAME:CEST
END:DAYLIGHT
END:VTIMEZONE
END:VCALENDAR