BEGIN:VCALENDAR
VERSION:2.0
PRODID:-//wp-events-plugin.com//7.2.3.1//EN
TZID:Europe/Berlin
X-WR-TIMEZONE:Europe/Berlin
BEGIN:VEVENT
UID:561@kneipenkonzerte.de
DTSTART;TZID=Europe/Berlin:20161002T210000
DTEND;TZID=Europe/Berlin:20161002T233000
DTSTAMP:20160922T125246Z
URL:https://kneipenkonzerte.de/veranstaltungen/jazzfestival-bremen-nord/
SUMMARY:Jazzfestival Bremen Nord
DESCRIPTION:Axel Fischbacher Trio &amp\; Malte Schiller Quartett (DE)\nIn 
 knisternder Atmosphäre gehen die drei Individualisten einen Trialog ein m
 it viel Freiraum für Interaktion im kleinen wie im großen Kreis. Inspiri
 erend\, herausfordernd und durchaus mit Ecken und Kanten lassen die erfahr
 enen Musiker aus einem musikalischen Dreieck ein rundes Klangerlebnis ents
 tehen\, das alles\, was Jazz kann in einem Ganzen auf den Punkt bringt.\n\
 nDer Gitarrist Axel Fischbacher ist einer der bedeutendsten europäischen 
 Jazzgitarristen. Der in Mazedonien geboren Bassist Martin Gjakonovski und 
 der er uramerikanische\, jüdische Schlagzeuger Adam Nussbaum\, einer der 
 herausragenden Protagonisten des „Contemporary Jazz“.
ATTACH;FMTTYPE=image/jpeg:https://kneipenkonzerte.de/wp-content/uploads/20
 16/05/kneipenkonzert-livemusik-veranstaltung-1.jpg
CATEGORIES:Jazz
LOCATION:Gewoelbe Vegesack\,  hinter der Sagerstraße 36\, Bremen\, Bremen\
 , 28759 \, Bremen\, Deutschland
GEO:53.170548;8.624959
X-APPLE-STRUCTURED-LOCATION;VALUE=URI;X-ADDRESS= hinter der Sagerstraße 36
 \, Bremen\, Bremen\, 28759 \, Bremen\, Deutschland;X-APPLE-RADIUS=100;X-TI
 TLE=Gewoelbe Vegesack:geo:53.170548,8.624959
END:VEVENT
BEGIN:VTIMEZONE
TZID:Europe/Berlin
X-LIC-LOCATION:Europe/Berlin
BEGIN:DAYLIGHT
DTSTART:20160327T030000
TZOFFSETFROM:+0100
TZOFFSETTO:+0200
TZNAME:CEST
END:DAYLIGHT
END:VTIMEZONE
END:VCALENDAR