BEGIN:VCALENDAR
VERSION:2.0
PRODID:-//wp-events-plugin.com//7.2.3.1//EN
TZID:Europe/Berlin
X-WR-TIMEZONE:Europe/Berlin
BEGIN:VEVENT
UID:574@kneipenkonzerte.de
DTSTART;TZID=Europe/Berlin:20161028T200000
DTEND;TZID=Europe/Berlin:20161028T220000
DTSTAMP:20161003T134028Z
URL:https://kneipenkonzerte.de/veranstaltungen/joanovarc-live-im-herzblut-
 langenhagen/
SUMMARY:JOANovARC live im Herzblut Langenhagen
DESCRIPTION:JOANovARC ist eine Girl-Band aus London\, bestehend aus Laura O
 zholl (Gitarre/Bass/Gesang)\, Sam Walker (Hauptgesang/Bass/Gitarre)\, Shel
 ley Walker (Gitarre/Gesang) und Deborah Wildish (Schlagzeug).\n\nIhre Musi
 k wird durch AC/DC\, Led Zeppelin\, Joan Jett und den Foo Fighters beeinfl
 usst\, weshalb sie auch die „Queens of Rock“ genannt werden. Anfang 20
 15 schaffte JOANovARC den internationalen Durchbruch\, ihre Singles „Liv
 e Rock n Roll“ und „White Trash“ wurden von Grammy-Award Gewinner un
 d Produzent Gil Norton (Foo Fighters) in den berühmten Rockfield Studions
  aufgenommen. JOANovARC sind bereits weltweit aufgetreten\, wie zum Beispi
 el in den USA\, Japan\, Singapur\, Israel\, der Karibik und besonders in E
 uropa. Auch das Herzblut Langenhagen haben sie mit einer großartigen Show
  gerockt.
ATTACH;FMTTYPE=image/jpeg:https://kneipenkonzerte.de/wp-content/uploads/20
 16/09/Joanovarc-2.jpg
CATEGORIES:Rock
LOCATION:Herzblut Sport- und Musikbar Langenhagen\, Brüsseler Str. 1  \, L
 angenhagen\, Niedersachsen\, 30853\, Hannover\, Deutschland
GEO:52.4421;9.72654
X-APPLE-STRUCTURED-LOCATION;VALUE=URI;X-ADDRESS=Brüsseler Str. 1  \, Lange
 nhagen\, Niedersachsen\, 30853\, Hannover\, Deutschland;X-APPLE-RADIUS=100
 ;X-TITLE=Herzblut Sport- und Musikbar Langenhagen:geo:52.4421,9.72654
END:VEVENT
BEGIN:VTIMEZONE
TZID:Europe/Berlin
X-LIC-LOCATION:Europe/Berlin
BEGIN:DAYLIGHT
DTSTART:20160327T030000
TZOFFSETFROM:+0100
TZOFFSETTO:+0200
TZNAME:CEST
END:DAYLIGHT
END:VTIMEZONE
END:VCALENDAR