BEGIN:VCALENDAR
VERSION:2.0
PRODID:-//wp-events-plugin.com//7.2.3.1//EN
TZID:Europe/Berlin
X-WR-TIMEZONE:Europe/Berlin
BEGIN:VEVENT
UID:2258@kneipenkonzerte.de
DTSTART;TZID=Europe/Berlin:20201005T190000
DTEND;TZID=Europe/Berlin:20201005T230000
DTSTAMP:20201001T105303Z
URL:https://kneipenkonzerte.de/veranstaltungen/john-blek-dortmund/
SUMMARY:John Blek
DESCRIPTION:John Blek aus Cork in Irland war jahrelang Sänger der sechskö
 pfigen Formation „John Blek &amp\; The Rats. Bereits vor Auflösunng der
  Band tourte er immer mal wieder solo durch Europa und kommt nun erneut au
 f eine kleine\, corona-gebeutelte Tour nach Deutschland.\n\n&nbsp\;\n\nWei
 tere Infos: https://kneipenkonzerte.de/tour-des-monats-john-blek/
ATTACH;FMTTYPE=image/jpeg:https://kneipenkonzerte.de/wp-content/uploads/20
 16/09/john-blek-live.jpg
CATEGORIES:Folk
LOCATION:Subrosa Dortmund\, Gneisenaustraße 56\, Dortmund-Hafen\, NRW\, 44
 147\, Ruhrgebiet\, Deutschland
GEO:51.521461;7.448351
X-APPLE-STRUCTURED-LOCATION;VALUE=URI;X-ADDRESS=Gneisenaustraße 56\, Dortm
 und-Hafen\, NRW\, 44147\, Ruhrgebiet\, Deutschland;X-APPLE-RADIUS=100;X-TI
 TLE=Subrosa Dortmund:geo:51.521461,7.448351
END:VEVENT
BEGIN:VTIMEZONE
TZID:Europe/Berlin
X-LIC-LOCATION:Europe/Berlin
BEGIN:DAYLIGHT
DTSTART:20200329T030000
TZOFFSETFROM:+0100
TZOFFSETTO:+0200
TZNAME:CEST
END:DAYLIGHT
END:VTIMEZONE
END:VCALENDAR