BEGIN:VCALENDAR
VERSION:2.0
PRODID:-//wp-events-plugin.com//7.2.3.1//EN
TZID:Europe/Berlin
X-WR-TIMEZONE:Europe/Berlin
BEGIN:VEVENT
UID:2628@kneipenkonzerte.de
DTSTART;TZID=Europe/Berlin:20190209T203000
DTEND;TZID=Europe/Berlin:20190209T230000
DTSTAMP:20190128T145854Z
URL:https://kneipenkonzerte.de/veranstaltungen/john-diva-and-the-rockets-o
 f-love/
SUMMARY:John Diva and The Rockets of Love
DESCRIPTION:John Diva &amp\; The Rockets Of Love\nTHE ULTIMATE 80S ROCK SHO
 W\nJOHN DIVA &amp\; THE ROCKETS OF LOVE –Spektakel\, Stars &amp\; Stripe
 s\, lange Mähnen\, sexy Cheerleader und die größten und besten Rockhits
  aller Zeiten - authentischer und glamouröser haben die 80er lange nicht 
 mehr gerockt - Stadionrock at it’s best! Was für eine Show! Im Sommer 2
 013 ist JOHN DIVA mit seinen ROCKETS OF LOVE erstmals auf deutschem Boden 
 gelandet. Ob bei Festivals\, Stadtfesten\, Club-Shows oder Parties - das P
 ublikum ist begeistert von der kraftvollen und gutgelaunten Rockparty\, di
 e der Sonnyboy aus San Diego abzieht. Ein charmanter Dandy\, flankiert von
  einem Rock-Quartett\, das sich gewaschen hat. Egal wo das charismatische 
 Quintett auftaucht - schon vor dem ersten Ton sorgt alleine die Optik für
  jede Menge Aufruhr. Eins ist klar: Seit der Ära der großen Rockbands de
 r 80er hat es keine energetischere und ambitioniertere Formation gegeben a
 ls JOHN DIVA &amp\; THE ROCKETS OF LOVE.
ATTACH;FMTTYPE=image/jpeg:https://kneipenkonzerte.de/wp-content/uploads/20
 18/11/John-Diva-2019-homepage.jpg
CATEGORIES:Rock
LOCATION:Musiktheater Rex\, Fabrikstraße 10\, Bensheim\, Hessen\, 64625\, 
 Frankfurt\, Deutschland
X-APPLE-STRUCTURED-LOCATION;VALUE=URI;X-ADDRESS=Fabrikstraße 10\, Bensheim
 \, Hessen\, 64625\, Frankfurt\, Deutschland;X-APPLE-RADIUS=100;X-TITLE=Mus
 iktheater Rex:geo:0,0
END:VEVENT
BEGIN:VTIMEZONE
TZID:Europe/Berlin
X-LIC-LOCATION:Europe/Berlin
BEGIN:STANDARD
DTSTART:20181028T020000
TZOFFSETFROM:+0200
TZOFFSETTO:+0100
TZNAME:CET
END:STANDARD
END:VTIMEZONE
END:VCALENDAR