BEGIN:VCALENDAR
VERSION:2.0
PRODID:-//wp-events-plugin.com//7.2.3.1//EN
TZID:Europe/Berlin
X-WR-TIMEZONE:Europe/Berlin
BEGIN:VEVENT
UID:4959@kneipenkonzerte.de
DTSTART;TZID=Europe/Berlin:20220603T193000
DTEND;TZID=Europe/Berlin:20220603T213000
DTSTAMP:20220525T125853Z
URL:https://kneipenkonzerte.de/veranstaltungen/juice-cocker/
SUMMARY:Juice Cocker
DESCRIPTION:Open Air Konzert\nEs gibt Joe Cocker\, es gibt Tribute-Bands &a
 mp\; es gibt "Juice Cocker" alias "Mario Maucher". Ohne den Altmeister kop
 ieren zu müssen versetzt "Juice" sein Publikum souverän &amp\; charmant 
 in die "gute alte Zeit" - als Joe Cocker mit seinen Welthits Musikgeschich
 te geschrieben hat. Songs\, wie "Unchain my heart"\, "With a little help" 
 oder "You can leave your hat on"\, werden dabei genauso zu hören sein wie
  weniger bekannte "Edelsteine" der Cocker-Historie.\n\nEinlass: 18:30 Uhr\
 nBeginn: 19:30 Uhr\nEintritt: 18\,00 €
ATTACH;FMTTYPE=image/jpeg:https://kneipenkonzerte.de/wp-content/uploads/20
 22/05/Plakat-2022-Quadratisch-4-1.jpg
CATEGORIES:Rock
LOCATION:HeimatRock\, Neckarstraße 62\, Ladenburg\, Baden-Württemberg/ De
 utschland\, 68526\, Stuttgart\, Deutschland
GEO:49.46255;8.609516
X-APPLE-STRUCTURED-LOCATION;VALUE=URI;X-ADDRESS=Neckarstraße 62\, Ladenbur
 g\, Baden-Württemberg/ Deutschland\, 68526\, Stuttgart\, Deutschland;X-AP
 PLE-RADIUS=100;X-TITLE=HeimatRock:geo:49.46255,8.609516
END:VEVENT
BEGIN:VTIMEZONE
TZID:Europe/Berlin
X-LIC-LOCATION:Europe/Berlin
BEGIN:DAYLIGHT
DTSTART:20220327T030000
TZOFFSETFROM:+0100
TZOFFSETTO:+0200
TZNAME:CEST
END:DAYLIGHT
END:VTIMEZONE
END:VCALENDAR