BEGIN:VCALENDAR
VERSION:2.0
PRODID:-//wp-events-plugin.com//7.2.3.1//EN
TZID:Europe/Berlin
X-WR-TIMEZONE:Europe/Berlin
BEGIN:VEVENT
UID:4920@kneipenkonzerte.de
DTSTART;TZID=Europe/Berlin:20220630T200000
DTEND;TZID=Europe/Berlin:20220630T220000
DTSTAMP:20220509T085708Z
URL:https://kneipenkonzerte.de/veranstaltungen/kaurna-cronin-koeln/
SUMMARY:Kaurna Cronin (AUS)
DESCRIPTION:Folk\, Acoustic\, Pop\, Rock und Indie sind die Werkzeuge des A
 ustraliers\, um vor allem eines zu transportieren: Großartige Geschichten
 . Mit erzählerischen Folksongs und Gruppenharmonien\, eingängigen Hooks 
 und energetischen Folk-Jams hat Cronin\, nicht nur renommierte Auszeichnun
 gen gewonnen\, sondern auch ein Publikum auf der ganzen Welt.
ATTACH;FMTTYPE=image/jpeg:https://kneipenkonzerte.de/wp-content/uploads/20
 22/05/kaurna-cronin-live-steinhude.webp
CATEGORIES:Folk-Rock
LOCATION:Kulturcafé Lichtung\, Ubierring 13 \, Köln\, NRW\, 50678 \, Köl
 n\, Deutschland
GEO:50.9215451;6.961169499999983
X-APPLE-STRUCTURED-LOCATION;VALUE=URI;X-ADDRESS=Ubierring 13 \, Köln\, NRW
 \, 50678 \, Köln\, Deutschland;X-APPLE-RADIUS=100;X-TITLE=Kulturcafé Lic
 htung:geo:50.9215451,6.961169499999983
END:VEVENT
BEGIN:VTIMEZONE
TZID:Europe/Berlin
X-LIC-LOCATION:Europe/Berlin
BEGIN:DAYLIGHT
DTSTART:20220327T030000
TZOFFSETFROM:+0100
TZOFFSETTO:+0200
TZNAME:CEST
END:DAYLIGHT
END:VTIMEZONE
END:VCALENDAR