BEGIN:VCALENDAR
VERSION:2.0
PRODID:-//wp-events-plugin.com//7.2.3.1//EN
TZID:Europe/Berlin
X-WR-TIMEZONE:Europe/Berlin
BEGIN:VEVENT
UID:4923@kneipenkonzerte.de
DTSTART;TZID=Europe/Berlin:20220723T190000
DTEND;TZID=Europe/Berlin:20220723T220000
DTSTAMP:20220509T090500Z
URL:https://kneipenkonzerte.de/veranstaltungen/kaurna-cronin-sande/
SUMMARY:Kaurna Cronin (AUS)
DESCRIPTION:Der junge Musiker aus Australien weiß großartige Geschichten 
 zu erzählen\, egal ob in Form erzählerischer Folksongs mit mehrstimmigen
  Gesangslinien oder energetischer Rock-Riffs mit eingängigen Hooklines.\n
 Cronin hat mit seinem eigenen Stil\, einer Mischung aus Folk\, Acoustic-Ro
 ck und Indie nicht nur renommierte Auszeichnungen\, sondern auch ein Fan-P
 ublikum auf der ganzen Welt gewonnen.
ATTACH;FMTTYPE=image/jpeg:https://kneipenkonzerte.de/wp-content/uploads/20
 22/05/kaurna-cronin-live-steinhude.webp
CATEGORIES:Folk-Rock
LOCATION:Zur scharfen Ecke\, Hauptstraße 90\, Sande\, Niedersachsen\, 2645
 2\, Bremen\, Deutschland
GEO:53.504082;8.013226
X-APPLE-STRUCTURED-LOCATION;VALUE=URI;X-ADDRESS=Hauptstraße 90\, Sande\, N
 iedersachsen\, 26452\, Bremen\, Deutschland;X-APPLE-RADIUS=100;X-TITLE=Zur
  scharfen Ecke:geo:53.504082,8.013226
END:VEVENT
BEGIN:VTIMEZONE
TZID:Europe/Berlin
X-LIC-LOCATION:Europe/Berlin
BEGIN:DAYLIGHT
DTSTART:20220327T030000
TZOFFSETFROM:+0100
TZOFFSETTO:+0200
TZNAME:CEST
END:DAYLIGHT
END:VTIMEZONE
END:VCALENDAR