BEGIN:VCALENDAR
VERSION:2.0
PRODID:-//wp-events-plugin.com//7.2.3.1//EN
TZID:Europe/Berlin
X-WR-TIMEZONE:Europe/Berlin
BEGIN:VEVENT
UID:1903@kneipenkonzerte.de
DTSTART;TZID=Europe/Berlin:20260816T190000
DTEND;TZID=Europe/Berlin:20260816T220000
DTSTAMP:20260130T103224Z
URL:https://kneipenkonzerte.de/veranstaltungen/kaurna-cronin-steinhude/
SUMMARY:Kaurna Cronin (AUS)
DESCRIPTION:Der Musiker aus Australien weiß großartige Geschichten zu erz
 ählen\, egal ob in Form erzählerischer Folksongs mit mehrstimmigen Gesan
 gslinien oder energetischer Rock-Riffs mit eingängigen Hooklines.\nCronin
  hat mit seinem eigenen Stil\, einer Mischung aus Folk\, Acoustic-Rock und
  Indie nicht nur renommierte Auszeichnungen\, sondern auch ein Fan-Publiku
 m auf der ganzen Welt gewonnen.
ATTACH;FMTTYPE=image/jpeg:https://kneipenkonzerte.de/wp-content/uploads/20
 22/05/kaurna-cronin-live-steinhude.webp
CATEGORIES:Folk-Rock
LOCATION:Filou - Die Kneipe.\, Bleichenstr. 9\, Steinhude\, Niedersachsen\,
  31515\, Hannover\, Deutschland
GEO:52.45768;9.36212
X-APPLE-STRUCTURED-LOCATION;VALUE=URI;X-ADDRESS=Bleichenstr. 9\, Steinhude\
 , Niedersachsen\, 31515\, Hannover\, Deutschland;X-APPLE-RADIUS=100;X-TITL
 E=Filou - Die Kneipe.:geo:52.45768,9.36212
END:VEVENT
BEGIN:VTIMEZONE
TZID:Europe/Berlin
X-LIC-LOCATION:Europe/Berlin
BEGIN:DAYLIGHT
DTSTART:20260329T030000
TZOFFSETFROM:+0100
TZOFFSETTO:+0200
TZNAME:CEST
END:DAYLIGHT
END:VTIMEZONE
END:VCALENDAR