BEGIN:VCALENDAR
VERSION:2.0
PRODID:-//wp-events-plugin.com//7.2.3.1//EN
TZID:Europe/Berlin
X-WR-TIMEZONE:Europe/Berlin
BEGIN:VEVENT
UID:5794@kneipenkonzerte.de
DTSTART;TZID=Europe/Berlin:20220912T200000
DTEND;TZID=Europe/Berlin:20220912T230000
DTSTAMP:20220616T125436Z
URL:https://kneipenkonzerte.de/veranstaltungen/kontrolle/
SUMMARY:Kontrolle
DESCRIPTION:
CATEGORIES:Alternative,Indie,Punk
LOCATION:Blauer Salon\, Münzgasse 13\, Tübingen\, Baden- Württemberg\, 7
 2070 \, Stuttgart\, Deutschland
GEO:48.51978159999999;9.055479699999978
X-APPLE-STRUCTURED-LOCATION;VALUE=URI;X-ADDRESS=Münzgasse 13\, Tübingen\,
  Baden- Württemberg\, 72070 \, Stuttgart\, Deutschland;X-APPLE-RADIUS=100
 ;X-TITLE=Blauer Salon:geo:48.51978159999999,9.055479699999978
END:VEVENT
BEGIN:VTIMEZONE
TZID:Europe/Berlin
X-LIC-LOCATION:Europe/Berlin
BEGIN:DAYLIGHT
DTSTART:20220327T030000
TZOFFSETFROM:+0100
TZOFFSETTO:+0200
TZNAME:CEST
END:DAYLIGHT
END:VTIMEZONE
END:VCALENDAR