BEGIN:VCALENDAR
VERSION:2.0
PRODID:-//wp-events-plugin.com//7.2.3.1//EN
TZID:Europe/Berlin
X-WR-TIMEZONE:Europe/Berlin
BEGIN:VEVENT
UID:588@kneipenkonzerte.de
DTSTART;TZID=Europe/Berlin:20161126T210000
DTEND;TZID=Europe/Berlin:20161126T223000
DTSTAMP:20161012T093149Z
URL:https://kneipenkonzerte.de/veranstaltungen/konzert-der-band-agent-dee-
 barsinghausen/
SUMMARY:Agent Dee
DESCRIPTION:Agent Dee besucht den ASB-Bahnhof am Samstag\, 26. November um 
 21 Uhr (Einlass 20 Uhr). Der Coverexpress der Region ist vielen sicherlich
  noch vom Auftritt beim Tanz in den Mai auf der ASB-Plaza oder vom Stadtfe
 st in Barsinghausen bekannt. Mit ihrem energiegeladenen Repertoire aus leg
 endärem Rock &amp\; Pop ist Agent Dee als Stimmungsgarant in jedem Fall e
 inen Besuch wert.
ATTACH;FMTTYPE=image/jpeg:https://kneipenkonzerte.de/wp-content/uploads/20
 16/05/kneipenkonzert-livemusik-veranstaltung-1.jpg
CATEGORIES:Rock
LOCATION:ASB-Bahnhof Barsinghausen\, Berliner Straße 8\, Barsinghausen\, N
 iedersachsen\, 30890\, Hannover\, Deutschland
GEO:52.30485;9.46687
X-APPLE-STRUCTURED-LOCATION;VALUE=URI;X-ADDRESS=Berliner Straße 8\, Barsin
 ghausen\, Niedersachsen\, 30890\, Hannover\, Deutschland;X-APPLE-RADIUS=10
 0;X-TITLE=ASB-Bahnhof Barsinghausen:geo:52.30485,9.46687
END:VEVENT
BEGIN:VTIMEZONE
TZID:Europe/Berlin
X-LIC-LOCATION:Europe/Berlin
BEGIN:STANDARD
DTSTART:20161030T020000
TZOFFSETFROM:+0200
TZOFFSETTO:+0100
TZNAME:CET
END:STANDARD
END:VTIMEZONE
END:VCALENDAR