BEGIN:VCALENDAR
VERSION:2.0
PRODID:-//wp-events-plugin.com//7.2.3.1//EN
TZID:Europe/Berlin
X-WR-TIMEZONE:Europe/Berlin
BEGIN:VEVENT
UID:585@kneipenkonzerte.de
DTSTART;TZID=Europe/Berlin:20181020T201500
DTEND;TZID=Europe/Berlin:20181020T214500
DTSTAMP:20180923T165702Z
URL:https://kneipenkonzerte.de/veranstaltungen/konzert-der-band-guru-guru/
SUMMARY:Guru Guru
DESCRIPTION:Für Samstag\, 20. Oktober um 20.15 Uhr (Einlass 19.15 Uhr) hat
  die legendäre Band Guru Guru ihren Besuch auf der Bühne des ASB-Bahnhof
 s Barsinghausen für eines ihrer genialen Konzerte angekündigt. Die Band 
 um Mani Neumeier feiert in diesem Jahr ihr 50-Jähriges Bestehen und ist d
 afür auf großer Tournee\, bei der sie auch für ein Konzert am Deister v
 orbeischauen werden. Die „Gurus“ zählen nach eigenen Angaben\, neben 
 den Rolling Stones\, zu den dienstältesten Rockbands unseres Planeten und
  sind unbestritten eine lebende Legende.\n\nIm Vorprogramm wird die neue B
 and „CURORCHESTER CALENBERG“ mit unter anderem Jens Meier und Uli Holz
 berger auftreten. Karten für das Sonderkonzert gibt es im Vorverkauf zum 
 Preis von 19.- Euro im Vorverkauf oder für 24.- Euro an der Abendkasse. O
 der Online unter www.asb-bahnhof.reservix.de zuzgl. Gebühren
ATTACH;FMTTYPE=image/jpeg:https://kneipenkonzerte.de/wp-content/uploads/20
 16/05/kneipenkonzert-livemusik-veranstaltung-1.jpg
CATEGORIES:Weltmusik
LOCATION:ASB-Bahnhof Basche\, Berliner Straße 8\, Barsinghausen\, Niedersa
 chsen\, 30890\, Hannover\, Deutschland
GEO:52.304852;9.466870
X-APPLE-STRUCTURED-LOCATION;VALUE=URI;X-ADDRESS=Berliner Straße 8\, Barsin
 ghausen\, Niedersachsen\, 30890\, Hannover\, Deutschland;X-APPLE-RADIUS=10
 0;X-TITLE=ASB-Bahnhof Basche:geo:52.304852,9.466870
END:VEVENT
BEGIN:VTIMEZONE
TZID:Europe/Berlin
X-LIC-LOCATION:Europe/Berlin
BEGIN:DAYLIGHT
DTSTART:20180325T030000
TZOFFSETFROM:+0100
TZOFFSETTO:+0200
TZNAME:CEST
END:DAYLIGHT
END:VTIMEZONE
END:VCALENDAR