BEGIN:VCALENDAR
VERSION:2.0
PRODID:-//wp-events-plugin.com//7.2.3.1//EN
TZID:Europe/Berlin
X-WR-TIMEZONE:Europe/Berlin
BEGIN:VEVENT
UID:589@kneipenkonzerte.de
DTSTART;TZID=Europe/Berlin:20200125T201500
DTEND;TZID=Europe/Berlin:20200125T214500
DTSTAMP:20191223T135223Z
URL:https://kneipenkonzerte.de/veranstaltungen/konzert-eyevory-barsinghaus
 en/
SUMMARY:Eyevory
DESCRIPTION:Eyevory präsentiert neues Album im ASB-Bahnhof Barsinghausen\n
 \nDie Band Eyevory aus Bremen präsentiert am Samstag\, 25. Januar um 20.1
 5 Uhr (Einlass 19.15 Uhr) ihr neues Studioalbum „Aurora“ im ASB-Bahnho
 f Barsinghausen. Und das stärker\, kompromissloser und fokussierter denn 
 je. Eyevory präsentieren sich auf ihrem dritten Album „Aurora“ voller
  Klarheit\, Zuversicht und Selbstvertrauen. Die zwei Leadsängerinnen und 
 die virtuose Flöte\, die gemeinsam mit der Gitarre lyrische Melodien übe
 rnimmt\, die Verschmelzung verschiedener Stilrichtungen aus Rock\, Pop\, F
 olk und Metal\, sowie komplexe Rhythmusgefüge\, unvorhersehbare Taktwechs
 el und besondere harmonische Verbindungen zeichnen die Band Eyevory aus. E
 yevory sind seit 2012 eine Bremer Institution und erarbeiteten sich mit we
 chselnden Besetzungen um Jana Frank (Vocals &amp\; Bass) und Kaja Fischer 
 (Vocals &amp\; Flöte) ein sicheres Standing in der internationalen Musikl
 andschaft. Eine beachtliche Live-Historie\, eine gefeierte Europa-Tour mit
  der kanadischen Prog-Band „Saga“ und Support-Shows für Ray Wilson (E
 x-Genesis)\, Doro\, Lazuli und Manfred Mann‘s Earth Band\, führen Eyevo
 ry schließlich zum „Night Of The Prog Festival“ auf der legendären L
 oreley. Nach dem Debüt „The True Bequest“ (EP\, 2012) – produziert 
 von Frank Bornemann (Eloy)\, folgen die Alben „Euphobia“ (2013)\, „I
 nphantasia“ (2016) und „Aurora“ (2019)\, sowie eine Live DVD mit ein
 em Sinfonie Orchester.\n\nEinlass: 19:15 Uhr\nBeginn: 20:15 Uhr\n\nVorverk
 auf: 12\,- Euro\nAbendkasse: 15\,- Euro\n\nVORVERKAUF\nKarten im Vorverkau
 f gibt es Online auf www.asb-bahnhof.reservix.de oder in allen Reservix VV
 K-Stellen.
ATTACH;FMTTYPE=image/jpeg:https://kneipenkonzerte.de/wp-content/uploads/20
 16/10/Eyevory_2016-2-by-volker-wilke.jpg
CATEGORIES:Alternative
LOCATION:ASB-Bahnhof Barsinghausen\, Berliner Straße 8\, Barsinghausen\, N
 iedersachsen\, 30890\, Hannover\, Deutschland
GEO:52.30485;9.46687
X-APPLE-STRUCTURED-LOCATION;VALUE=URI;X-ADDRESS=Berliner Straße 8\, Barsin
 ghausen\, Niedersachsen\, 30890\, Hannover\, Deutschland;X-APPLE-RADIUS=10
 0;X-TITLE=ASB-Bahnhof Barsinghausen:geo:52.30485,9.46687
END:VEVENT
BEGIN:VTIMEZONE
TZID:Europe/Berlin
X-LIC-LOCATION:Europe/Berlin
BEGIN:STANDARD
DTSTART:20191027T020000
TZOFFSETFROM:+0200
TZOFFSETTO:+0100
TZNAME:CET
END:STANDARD
END:VTIMEZONE
END:VCALENDAR