BEGIN:VCALENDAR
VERSION:2.0
PRODID:-//wp-events-plugin.com//7.2.3.1//EN
TZID:Europe/Berlin
X-WR-TIMEZONE:Europe/Berlin
BEGIN:VEVENT
UID:4918@kneipenkonzerte.de
DTSTART;TZID=Europe/Berlin:20221104T200000
DTEND;TZID=Europe/Berlin:20221104T230000
DTSTAMP:20220506T141549Z
URL:https://kneipenkonzerte.de/veranstaltungen/krissy-matthews-mit-band-4/
SUMMARY:Krissy Matthews mit Band
DESCRIPTION:Namen wie Jimi Hendrix\, Muddy Waters\, Eric Clapton\, Jeff Bec
 k\, Johnny Winter\, Rory Gallagher oder auch Pete Townsend fallen\, wenn v
 on dem erst 29 Jahre alten Krissy Matthews die Rede ist. Sie alle sollen P
 ate für den Gitarren-Stil des jungen Ausnahme Gitarristen gestanden habe
 n und in der Tat ist das Spiel von Matthews alles andere als eindimensiona
 l. Mal klingt er frisch und rau\, dann wieder schräg und wild. Schon als 
 Dreijähriger stand er zum ersten Mal auf der Bühne\, im Alter von acht 
 Jahren bekam er seine erste Gitarre und als Elfjähriger wurde er vom Blue
 s erfasst. Ein Jahr später traf er John Mayall bei einem Auftritt in Norw
 egen\, und der Gottvater des weißen Blues zögerte nicht lange und nahm d
 en Zwölfjährigen mit auf die Bühne. Musikerkollegen\, Kritiker sowie P
 resse sind voll des Lobes\; “This guy is the real deal” (Beth Hart)\, 
 “Oh boy\, this kid can play” (Hubert Sumlin).
ATTACH;FMTTYPE=image/jpeg:https://kneipenkonzerte.de/wp-content/uploads/20
 22/04/km1.jpg
CATEGORIES:Blues
LOCATION:Kofferfabrik\, Lange Str. 81 \, Fürth\, Bayern\, 90762 \, Franken
 \, Deutschland
GEO:49.46826069999999;11.007619500000033
X-APPLE-STRUCTURED-LOCATION;VALUE=URI;X-ADDRESS=Lange Str. 81 \, Fürth\, B
 ayern\, 90762 \, Franken\, Deutschland;X-APPLE-RADIUS=100;X-TITLE=Kofferfa
 brik:geo:49.46826069999999,11.007619500000033
END:VEVENT
BEGIN:VTIMEZONE
TZID:Europe/Berlin
X-LIC-LOCATION:Europe/Berlin
BEGIN:STANDARD
DTSTART:20221030T020000
TZOFFSETFROM:+0200
TZOFFSETTO:+0100
TZNAME:CET
END:STANDARD
END:VTIMEZONE
END:VCALENDAR