BEGIN:VCALENDAR
VERSION:2.0
PRODID:-//wp-events-plugin.com//7.2.3.1//EN
TZID:Europe/Berlin
X-WR-TIMEZONE:Europe/Berlin
BEGIN:VEVENT
UID:4930@kneipenkonzerte.de
DTSTART;TZID=Europe/Berlin:20220626T170000
DTEND;TZID=Europe/Berlin:20220626T180000
DTSTAMP:20220520T120125Z
URL:https://kneipenkonzerte.de/veranstaltungen/les-connaisseurs/
SUMMARY:Les Connaisseurs
DESCRIPTION:Les Connaisseurs im Weltmusiksalon \\\\\\"Der fliegende Teppich
 \\\\\\"\nDas Saxophontrio Les Connaisseuers im Weltmusiksalon "Der fliegen
 de Teppich" Nr. 32\n\nMit 3 Saxophonen geht es musikalisch nach Amerika\, 
 Afrika\, Europa und in den Orient.\n\n 	Rainer Hanke (Altsaxophon)\n 	Achi
 m Kleiner (Baritonsaxophon)\n 	Gert Anklam (Sopransaxophon)\n
ATTACH;FMTTYPE=image/jpeg:https://kneipenkonzerte.de/wp-content/uploads/20
 22/05/les-connaisseurs-saxophontrio1.jpg
CATEGORIES:Weltmusik
LOCATION:Moving Poets Novilla\, Hasselwerderstr. 22\, Berlin\, Berlin\, 124
 39 \, Berlin\, Deutschland
GEO:52.457459;13.518227
X-APPLE-STRUCTURED-LOCATION;VALUE=URI;X-ADDRESS=Hasselwerderstr. 22\, Berli
 n\, Berlin\, 12439 \, Berlin\, Deutschland;X-APPLE-RADIUS=100;X-TITLE=Movi
 ng Poets Novilla:geo:52.457459,13.518227
END:VEVENT
BEGIN:VTIMEZONE
TZID:Europe/Berlin
X-LIC-LOCATION:Europe/Berlin
BEGIN:DAYLIGHT
DTSTART:20220327T030000
TZOFFSETFROM:+0100
TZOFFSETTO:+0200
TZNAME:CEST
END:DAYLIGHT
END:VTIMEZONE
END:VCALENDAR