BEGIN:VCALENDAR
VERSION:2.0
PRODID:-//wp-events-plugin.com//7.2.3.1//EN
TZID:Europe/Berlin
X-WR-TIMEZONE:Europe/Berlin
BEGIN:VEVENT
UID:2281@kneipenkonzerte.de
DTSTART;TZID=Europe/Berlin:20180907T200000
DTEND;TZID=Europe/Berlin:20180907T220000
DTSTAMP:20180809T091907Z
URL:https://kneipenkonzerte.de/veranstaltungen/luke-philbrick-norden/
SUMMARY:Luke Philbrick (UK)
DESCRIPTION:Ursprüngliche Rootsmusik trifft auf traditionellen Blues und F
 olk-Einflüsse – so lässt sich die Musik von Luke Philbrick wohl am bes
 ten beschreiben. Auffallend kraftvolle Vocals\, rohe Delta-Blues-Gitarren 
 und traditionelles Fußstampfen sorgen für eine besondere Atmosphäre in 
 der Musik des Singer-Songwriters aus England. Philbricks unverwechselbare 
 Songs behandeln Themen wie Sklaverei\, Tod\, Cowboys\, den Verlust an den 
 Glauben und den Wunsch\, dass sein Schwiegervater zur Hölle fahren möge.
  Der aus Gloucestershire stammende Singer-Songwriter hat sich in seiner He
 imat bereits eine stattliche Fangemeinde aufgebaut. Seine Auftritte bestre
 itet er sowohl solo\, als auch in Begleitung von „Black Diamond Express 
 to Hell featuring Damon T“ als Backgroundsänger und Perkussionist.\nLuk
 e Philbricks Debütalbum "The Kitchen Sessions" macht seinem Namen alle Eh
 re und wurde mit kleinem Budget in einer Küche mit Freunden und Familie a
 ufgenommen.\n\nInfluences: Blind Willie Johnson\, Skip James\, Blind Willi
 e McTell\, Jimi Hendrix\, Led Zeppelin\, Black Sabbath\, Nirvana\, Jeff Bu
 ckley\, Radiohead and many more
ATTACH;FMTTYPE=image/jpeg:https://kneipenkonzerte.de/wp-content/uploads/20
 18/08/luke-philbrick-konzert.jpg
CATEGORIES:Blues,Folk
LOCATION:Metas Musikschuppen\, Deichstraße 10\, \, Norden\, Niedersachsen\
 , 26506 \, Deutschland
GEO:53.61416999999999;7.150539999999978
X-APPLE-STRUCTURED-LOCATION;VALUE=URI;X-ADDRESS=Deichstraße 10\, \, Norden
 \, Niedersachsen\, 26506 \, Deutschland;X-APPLE-RADIUS=100;X-TITLE=Metas M
 usikschuppen:geo:53.61416999999999,7.150539999999978
END:VEVENT
BEGIN:VTIMEZONE
TZID:Europe/Berlin
X-LIC-LOCATION:Europe/Berlin
BEGIN:DAYLIGHT
DTSTART:20180325T030000
TZOFFSETFROM:+0100
TZOFFSETTO:+0200
TZNAME:CEST
END:DAYLIGHT
END:VTIMEZONE
END:VCALENDAR