BEGIN:VCALENDAR
VERSION:2.0
PRODID:-//wp-events-plugin.com//7.2.3.1//EN
TZID:Europe/Berlin
X-WR-TIMEZONE:Europe/Berlin
BEGIN:VEVENT
UID:2657@kneipenkonzerte.de
DTSTART;TZID=Europe/Berlin:20190316T201500
DTEND;TZID=Europe/Berlin:20190316T221500
DTSTAMP:20190128T150148Z
URL:https://kneipenkonzerte.de/veranstaltungen/matthew-graye/
SUMMARY:Matthew Graye
DESCRIPTION:Matthew Graye bringen Pop-Punk mit Ska-Appeal in den ASB-Bahnho
 f Barsinghausen\nDeutschsprachige Songs mit Ironie und Irrsinn / Die Misch
 ung macht den Unterschied\nBarsinghausen. Am Samstag\, 16. März um 20.15 
 Uhr (Einlass 19.15 Uhr) spielt die Band Matthew Graye eines ihrer genialen
  Konzerte im ASB-Bahnhof Barsinghausen. Matthew Graye ist ein Kollektiv un
 terschiedlichster Charaktere\, die sich gefunden haben\, um für Entertain
 ment und Ekstase zu sorgen. Aus der Vorgeschichte eines Musikprojekts für
  die Abi-Feier entstand eine Band\, deren Geschichte dann ganz klassisch m
 it erfolgreichen Teilnahmen an Bandwettbewerben begann. In ihrer ursprüng
 lichen Heimatstadt Hildesheim gibt es nicht viele Clubs\, sodass sich Matt
 hew Graye schon früh in das Abenteuer Tourbus stürzten und den deutschsp
 rachigen Raum bereisten\, wo sie zahlreiche Clubs in Saunen verwandelten. 
 Wenn Fans zu Clubshows kommen\, ein Zufallspublikum auch bei strömendem R
 egen vor der Open-Air-Bühne stehen bleibt oder 5.000 Madsen-Fans schon be
 i der Vorband heftig feiern\, sagt das Fazit „es war irgendwie geil“ a
 lles aus. Nicht glücklich wird\, wer versucht\, Matthew Graye eindeutig e
 inem Genre zuzuordnen. Das ist zu rockig für Mainstream-Pop\, zu poppig f
 ür klassischen Punk\, zu spaßig für Indie und zu alles für Ska-Puriste
 n. Dem Zuhörer und Zuschauer ist’s egal\, ob die Stilschublade beschrif
 tet ist oder nicht\, und der Band sowieso. Die musikalische Melange findet
  ihre Entsprechung in den deutschen Songtexten: Mal sehr deutlich und mal 
 um die Ecke gedacht\, gewürzt mit viel Ironie beschreiben sie den alltäg
 lichen Irrsinn\, auf den sich jeder seinen eigenen Reim machen kann. „Ic
 h kann’s nicht beschreiben\, es war irgendwie geil“ – diese Aussage 
 eines Zuschauers beschreibt treffend das erlebte Gefühl nach einem Auftri
 tt von Matthew Graye. Ein temporeiches Set\, das auch passionierte Eckenst
 eher dringlich nach vorne bewegt. Ohrwurmige Refrains\, die schon nach dem
  ersten Hören zum Mitsingen animieren. Wuchtige Bläser für das gewisse 
 Etwas zur druckvollen Rhythmusgruppe und zum verspielten Synthieklangteppi
 ch – auf und vor der Bühne geht es rund. Der Pop-Punk mit Ska-Appeal vo
 n Matthew Graye ist Tanzmusik\, die einfach glücklich macht.\n\nEintritt:
 \nVVK: 12\,50 Euro\nAbendkasse: 15\,- Euro\n\nVORVERKAUF\nKarten im Vorver
 kauf gibt es Online auf reservix.de\nwww.asb-bahnhof.reservix.de
ATTACH;FMTTYPE=image/jpeg:https://kneipenkonzerte.de/wp-content/uploads/20
 16/05/kneipenkonzert-livemusik-veranstaltung-1.jpg
CATEGORIES:Ska
LOCATION:ASB-Bahnhof Barsinghausen\, Berliner Straße 8\, Barsinghausen\, N
 iedersachsen\, 30890\, Hannover\, Deutschland
GEO:52.30485;9.46687
X-APPLE-STRUCTURED-LOCATION;VALUE=URI;X-ADDRESS=Berliner Straße 8\, Barsin
 ghausen\, Niedersachsen\, 30890\, Hannover\, Deutschland;X-APPLE-RADIUS=10
 0;X-TITLE=ASB-Bahnhof Barsinghausen:geo:52.30485,9.46687
END:VEVENT
BEGIN:VTIMEZONE
TZID:Europe/Berlin
X-LIC-LOCATION:Europe/Berlin
BEGIN:STANDARD
DTSTART:20181028T020000
TZOFFSETFROM:+0200
TZOFFSETTO:+0100
TZNAME:CET
END:STANDARD
END:VTIMEZONE
END:VCALENDAR