BEGIN:VCALENDAR
VERSION:2.0
PRODID:-//wp-events-plugin.com//7.2.3.1//EN
TZID:Europe/Berlin
X-WR-TIMEZONE:Europe/Berlin
BEGIN:VEVENT
UID:4960@kneipenkonzerte.de
DTSTART;TZID=Europe/Berlin:20220610T193000
DTEND;TZID=Europe/Berlin:20220610T213000
DTSTAMP:20220525T132757Z
URL:https://kneipenkonzerte.de/veranstaltungen/maz/
SUMMARY:Maz
DESCRIPTION:Open Air Konzert\nDer Singer Songwriter covert weltbekannte Hit
 s von den 50-igern bis heute. Loop-Player &amp\; Effekte machen den Sound 
 der Arrangements einzigartig. Maz spielt auch seine eigenen Songs\, die El
 emente von Folk &amp\; Akustic Pop in sich tragen. In seinem Gitarrenspiel
  vereinen sich verschiedene Musikstile wie Reggae\, Blues &amp\; Pop mit T
 echniken wie fingerstyle\, strumming\, percussive &amp\; solo. Mit all sei
 nen Fertigkeiten &amp\; Fähigkeiten bringt er Freude &amp\; einzigartige 
 Klänge für seine Zuhörer auf die Bühne.\n\nEinlass: 18:30 Uhr\nBeginn:
  19:30 Uhr\nEintritt: 12\,00 €
ATTACH;FMTTYPE=image/jpeg:https://kneipenkonzerte.de/wp-content/uploads/20
 22/05/Plakat-2022-Quadratisch-6.jpg
CATEGORIES:Singer/Songwriter
LOCATION:HeimatRock\, Neckarstraße 62\, Ladenburg\, Baden-Württemberg/ De
 utschland\, 68526\, Stuttgart\, Deutschland
GEO:49.46255;8.609516
X-APPLE-STRUCTURED-LOCATION;VALUE=URI;X-ADDRESS=Neckarstraße 62\, Ladenbur
 g\, Baden-Württemberg/ Deutschland\, 68526\, Stuttgart\, Deutschland;X-AP
 PLE-RADIUS=100;X-TITLE=HeimatRock:geo:49.46255,8.609516
END:VEVENT
BEGIN:VTIMEZONE
TZID:Europe/Berlin
X-LIC-LOCATION:Europe/Berlin
BEGIN:DAYLIGHT
DTSTART:20220327T030000
TZOFFSETFROM:+0100
TZOFFSETTO:+0200
TZNAME:CEST
END:DAYLIGHT
END:VTIMEZONE
END:VCALENDAR