BEGIN:VCALENDAR
VERSION:2.0
PRODID:-//wp-events-plugin.com//7.2.3.1//EN
TZID:Europe/Berlin
X-WR-TIMEZONE:Europe/Berlin
BEGIN:VEVENT
UID:7267@kneipenkonzerte.de
DTSTART;TZID=Europe/Berlin:20260228T190000
DTEND;TZID=Europe/Berlin:20260228T220000
DTSTAMP:20250926T125732Z
URL:https://kneipenkonzerte.de/veranstaltungen/morgan-finlay-7/
SUMMARY:Morgan Finlay
DESCRIPTION:In den mehr als zehn Jahren\, die Morgan Finlay bereits auf den
  Straßen Europas tourt\, gelang es dem irisch-kanadischen Singer-Songwrit
 er durch sein Talent für Melodien\, und seine lebhaft mitfühlende Beobac
 htungsgabe\, sowie seine Leidenschaft für die Menschheit eine einzigartig
 e Erfolgsgeschichte zu schreiben. Seit seiner elektrisierenden\, ersten Si
 ngle “zensong”\, die auf Platz zwei der australischen Independent Radi
 o Charts kletterte\, sowie seinen acht veröffentlichten Alben und über 7
 50 gespielten Konzerten\, gewann Finlay wachsende Anerkennung und Erfolg.\
 nSeiner Stimmgewalt und den mit unverblümter Ehrlichkeit erzählten Gesch
 ichten verdankt Finlay eine leidenschaftliche Fangemeinde\, die bereits vi
 er Crowdfunding-Kampagnen zum Erfolg verhalfen\, über die Songauswahl auf
  seinen Alben abstimmten\, Konzerte veranstalteten und Videos drehten.\nFi
 nlays Album “New Harbour” wurde in Neufundland geschrieben und aufgeno
 mmen. Mit starken ostkanadischen und keltischen Einflüssen wurde es schne
 ll zu seinem bisher erfolgreichstem und beliebtestem Werk.
ATTACH;FMTTYPE=image/jpeg:https://kneipenkonzerte.de/wp-content/uploads/20
 18/10/Morgan-Finlay-2017-Michael-Schiller.jpeg
CATEGORIES:Folk
LOCATION:Filou - Die Kneipe.\, Bleichenstr. 9\, Steinhude\, Niedersachsen\,
  31515\, Hannover\, Deutschland
GEO:52.45768;9.36212
X-APPLE-STRUCTURED-LOCATION;VALUE=URI;X-ADDRESS=Bleichenstr. 9\, Steinhude\
 , Niedersachsen\, 31515\, Hannover\, Deutschland;X-APPLE-RADIUS=100;X-TITL
 E=Filou - Die Kneipe.:geo:52.45768,9.36212
END:VEVENT
BEGIN:VTIMEZONE
TZID:Europe/Berlin
X-LIC-LOCATION:Europe/Berlin
BEGIN:STANDARD
DTSTART:20251026T020000
TZOFFSETFROM:+0200
TZOFFSETTO:+0100
TZNAME:CET
END:STANDARD
END:VTIMEZONE
END:VCALENDAR