BEGIN:VCALENDAR
VERSION:2.0
PRODID:-//wp-events-plugin.com//7.2.3.1//EN
TZID:Europe/Berlin
X-WR-TIMEZONE:Europe/Berlin
BEGIN:VEVENT
UID:2901@kneipenkonzerte.de
DTSTART;TZID=Europe/Berlin:20170301T200000
DTEND;TZID=Europe/Berlin:20170301T233000
DTSTAMP:20190621T114449Z
URL:https://kneipenkonzerte.de/veranstaltungen/nerly-jazz-jam-session-2017
 -03-01/
SUMMARY:Nerly Jazz Jam Session
DESCRIPTION:
ATTACH;FMTTYPE=image/jpeg:https://kneipenkonzerte.de/wp-content/uploads/20
 16/05/nerly-erfurt-jazz-session.jpg
CATEGORIES:Jazz
LOCATION:Nerly\, Marktstraße 6 \, Erfurt\, Thüringen\, 99084\, Erfurt\, D
 eutschland
GEO:50.977647;11.027564999999981
X-APPLE-STRUCTURED-LOCATION;VALUE=URI;X-ADDRESS=Marktstraße 6 \, Erfurt\, 
 Thüringen\, 99084\, Erfurt\, Deutschland;X-APPLE-RADIUS=100;X-TITLE=Nerly
 :geo:50.977647,11.027564999999981
END:VEVENT
BEGIN:VTIMEZONE
TZID:Europe/Berlin
X-LIC-LOCATION:Europe/Berlin
BEGIN:STANDARD
DTSTART:20161030T020000
TZOFFSETFROM:+0200
TZOFFSETTO:+0100
TZNAME:CET
END:STANDARD
END:VTIMEZONE
END:VCALENDAR