BEGIN:VCALENDAR
VERSION:2.0
PRODID:-//wp-events-plugin.com//7.2.3.1//EN
TZID:Europe/Berlin
X-WR-TIMEZONE:Europe/Berlin
BEGIN:VEVENT
UID:2276@kneipenkonzerte.de
DTSTART;TZID=Europe/Berlin:20260418T200000
DTEND;TZID=Europe/Berlin:20260418T221500
DTSTAMP:20260114T144439Z
URL:https://kneipenkonzerte.de/veranstaltungen/nick-parker-john-leonard/
SUMMARY:Nick Parker
DESCRIPTION:Nick Parker ist ein aufstrebender Singer/Songwriter aus dem bes
 chaulichen Somerset in der Nähe von Glastonbury\, England. Seine Songs si
 nd folkig\, mitreißend und leidenschaftlich. Seine Live-Performances sind
  von einer Intensität\, die Vergleiche mit Glen Hansard und Frank Turner 
 zulassen.
ATTACH;FMTTYPE=image/jpeg:https://kneipenkonzerte.de/wp-content/uploads/20
 16/05/nick-parker-by-thomas-althaus.jpg
CATEGORIES:Folk,Folk-Rock,Singer/Songwriter
LOCATION:Filou - Die Kneipe.\, Bleichenstr. 9\, Steinhude\, Niedersachsen\,
  31515\, Hannover\, Deutschland
GEO:52.45768;9.36212
X-APPLE-STRUCTURED-LOCATION;VALUE=URI;X-ADDRESS=Bleichenstr. 9\, Steinhude\
 , Niedersachsen\, 31515\, Hannover\, Deutschland;X-APPLE-RADIUS=100;X-TITL
 E=Filou - Die Kneipe.:geo:52.45768,9.36212
END:VEVENT
BEGIN:VTIMEZONE
TZID:Europe/Berlin
X-LIC-LOCATION:Europe/Berlin
BEGIN:DAYLIGHT
DTSTART:20260329T030000
TZOFFSETFROM:+0100
TZOFFSETTO:+0200
TZNAME:CEST
END:DAYLIGHT
END:VTIMEZONE
END:VCALENDAR