BEGIN:VCALENDAR
VERSION:2.0
PRODID:-//wp-events-plugin.com//7.2.3.1//EN
TZID:Europe/Berlin
X-WR-TIMEZONE:Europe/Berlin
BEGIN:VEVENT
UID:161@kneipenkonzerte.de
DTSTART;TZID=Europe/Berlin:20260424T200000
DTEND;TZID=Europe/Berlin:20260424T221500
DTSTAMP:20260114T144553Z
URL:https://kneipenkonzerte.de/veranstaltungen/nick-parker-kiel/
SUMMARY:Nick Parker
DESCRIPTION:Nick Parker ist ein aufstrebender Singer/Songwriter aus dem bes
 chaulichen Somerset in der Nähe von Glastonbury\, England. Seine Songs si
 nd folkig\, mitreißend und leidenschaftlich. Seine Live-Performances sind
  von einer Intensität\, die Vergleiche mit Glen Hansard und Frank Turner 
 zulassen.
ATTACH;FMTTYPE=image/jpeg:https://kneipenkonzerte.de/wp-content/uploads/20
 16/05/nick-parker-by-thomas-althaus.jpg
CATEGORIES:Folk,Folk-Rock,Singer/Songwriter
LOCATION:Prinz Willy\, Lutherstraße 9\, Kiel\, Schleswig-Holstein\, 24114 
 \, Schleswig-Flensburg\, Deutschland
GEO:54.3152294;10.116977499999962
X-APPLE-STRUCTURED-LOCATION;VALUE=URI;X-ADDRESS=Lutherstraße 9\, Kiel\, Sc
 hleswig-Holstein\, 24114 \, Schleswig-Flensburg\, Deutschland;X-APPLE-RADI
 US=100;X-TITLE=Prinz Willy:geo:54.3152294,10.116977499999962
END:VEVENT
BEGIN:VTIMEZONE
TZID:Europe/Berlin
X-LIC-LOCATION:Europe/Berlin
BEGIN:DAYLIGHT
DTSTART:20260329T030000
TZOFFSETFROM:+0100
TZOFFSETTO:+0200
TZNAME:CEST
END:DAYLIGHT
END:VTIMEZONE
END:VCALENDAR