BEGIN:VCALENDAR
VERSION:2.0
PRODID:-//wp-events-plugin.com//7.2.3.1//EN
TZID:Europe/Berlin
X-WR-TIMEZONE:Europe/Berlin
BEGIN:VEVENT
UID:160@kneipenkonzerte.de
DTSTART;TZID=Europe/Berlin:20161216T203000
DTEND;TZID=Europe/Berlin:20161216T224500
DTSTAMP:20160529T101459Z
URL:https://kneipenkonzerte.de/veranstaltungen/nick-parker-nienburg/
SUMMARY:Nick Parker
DESCRIPTION:Nick Parker ist ein aufstrebender Singer/Songwriter aus dem bes
 chaulichen Somerset in der Nähe von Glastonbury\, England. Seine Songs si
 nd folkig\, mitreißend und leidenschaftlich. Seine Live-Performances sind
  von einer Intensität\, die Vergleiche mit Glen Hansard und Frank Turner 
 zulassen.
ATTACH;FMTTYPE=image/jpeg:https://kneipenkonzerte.de/wp-content/uploads/20
 16/05/nick-parker-by-thomas-althaus.jpg
CATEGORIES:Folk,Folk-Rock,Singer/Songwriter
LOCATION:Nienburger Kulturwerk\, Mindener Landstraße 20 \, Nienburg\, Nied
 ersachsen\, 31582 \, Hannover\, Deutschland
GEO:52.63511;9.20771000000002
X-APPLE-STRUCTURED-LOCATION;VALUE=URI;X-ADDRESS=Mindener Landstraße 20 \, 
 Nienburg\, Niedersachsen\, 31582 \, Hannover\, Deutschland;X-APPLE-RADIUS=
 100;X-TITLE=Nienburger Kulturwerk:geo:52.63511,9.20771000000002
END:VEVENT
BEGIN:VTIMEZONE
TZID:Europe/Berlin
X-LIC-LOCATION:Europe/Berlin
BEGIN:STANDARD
DTSTART:20161030T020000
TZOFFSETFROM:+0200
TZOFFSETTO:+0100
TZNAME:CET
END:STANDARD
END:VTIMEZONE
END:VCALENDAR