BEGIN:VCALENDAR
VERSION:2.0
PRODID:-//wp-events-plugin.com//7.2.3.1//EN
TZID:Europe/Berlin
X-WR-TIMEZONE:Europe/Berlin
BEGIN:VEVENT
UID:5786@kneipenkonzerte.de
DTSTART;TZID=Europe/Berlin:20220617T200000
DTEND;TZID=Europe/Berlin:20220617T223000
DTSTAMP:20220616T122434Z
URL:https://kneipenkonzerte.de/veranstaltungen/open-stage-culture-garage/
SUMMARY:Open Stage Culture Garage
DESCRIPTION:
ATTACH;FMTTYPE=image/jpeg:https://kneipenkonzerte.de/wp-content/uploads/20
 16/05/cropped-kneipenkonzert-livemusik-veranstaltung-1.jpg
CATEGORIES:Folk,Singer/Songwriter
LOCATION:Culture Garage\, Mogelkenstraße 22\, Hannover\, Niedersachsen\, 3
 0165 \, Hannover\, Deutschland
GEO:52.40968;9.70353
X-APPLE-STRUCTURED-LOCATION;VALUE=URI;X-ADDRESS=Mogelkenstraße 22\, Hannov
 er\, Niedersachsen\, 30165 \, Hannover\, Deutschland;X-APPLE-RADIUS=100;X-
 TITLE=Culture Garage:geo:52.40968,9.70353
END:VEVENT
BEGIN:VTIMEZONE
TZID:Europe/Berlin
X-LIC-LOCATION:Europe/Berlin
BEGIN:DAYLIGHT
DTSTART:20220327T030000
TZOFFSETFROM:+0100
TZOFFSETTO:+0200
TZNAME:CEST
END:DAYLIGHT
END:VTIMEZONE
END:VCALENDAR