BEGIN:VCALENDAR
VERSION:2.0
PRODID:-//wp-events-plugin.com//7.2.3.1//EN
TZID:Europe/Berlin
X-WR-TIMEZONE:Europe/Berlin
BEGIN:VEVENT
UID:4948@kneipenkonzerte.de
DTSTART;TZID=Europe/Berlin:20220917T190000
DTEND;TZID=Europe/Berlin:20220917T230000
DTSTAMP:20220523T120938Z
URL:https://kneipenkonzerte.de/veranstaltungen/paloma-the-matches/
SUMMARY:Paloma & the Matches
DESCRIPTION:Die Bremer Band zeichnet sich vor allem durch einen handgemacht
 en Mix aus Gute-Laune-Surfmusik\, dreckigen Gitarrenriffs\, gepaart mit fu
 nky Basslines und melancholisch-verträumten Klängen aus\, die an alte Ta
 rantino- oder Bond-Soundtracks erinnern. Hier und da verirren sich orienta
 lisch angehauchte Trommeln in das authentische Gesamtbild\, gebrochen von 
 roughen Main-Vocals der Sängerin Bianca Paloma Marstaller und abgerundet 
 von den experimentierfreudigen dreistimmigen Harmonien der männlichen Ban
 dbesetzung: Kai Kampf\, Tom Wagner und Nils O’Swald.
ATTACH;FMTTYPE=image/jpeg:https://kneipenkonzerte.de/wp-content/uploads/20
 22/05/PalomaTheMatches_JonasScharf.jpg
CATEGORIES:Folk-Rock,Pop
LOCATION:Filou - Die Kneipe.\, Bleichenstr. 9\, Steinhude\, Niedersachsen\,
  31515\, Hannover\, Deutschland
GEO:52.45768;9.36212
X-APPLE-STRUCTURED-LOCATION;VALUE=URI;X-ADDRESS=Bleichenstr. 9\, Steinhude\
 , Niedersachsen\, 31515\, Hannover\, Deutschland;X-APPLE-RADIUS=100;X-TITL
 E=Filou - Die Kneipe.:geo:52.45768,9.36212
END:VEVENT
BEGIN:VTIMEZONE
TZID:Europe/Berlin
X-LIC-LOCATION:Europe/Berlin
BEGIN:DAYLIGHT
DTSTART:20220327T030000
TZOFFSETFROM:+0100
TZOFFSETTO:+0200
TZNAME:CEST
END:DAYLIGHT
END:VTIMEZONE
END:VCALENDAR