BEGIN:VCALENDAR
VERSION:2.0
PRODID:-//wp-events-plugin.com//7.2.3.1//EN
TZID:Europe/Berlin
X-WR-TIMEZONE:Europe/Berlin
BEGIN:VEVENT
UID:1899@kneipenkonzerte.de
DTSTART;TZID=Europe/Berlin:20180728T200000
DTEND;TZID=Europe/Berlin:20180728T220000
DTSTAMP:20180619T235152Z
URL:https://kneipenkonzerte.de/veranstaltungen/paul-messinger-brake/
SUMMARY:Paul Messinger (USA)
DESCRIPTION:Paul Messinger ist ein Poet\, Songwriter\, Sänger\, und Multi-
 Instrumentalist. Ursprünglich aus New York stammend\, ist er nun in Chape
 l Hill\, North Carolina beheimatet. Er ist bekannt als einer der frühen B
 efürworter der von Howard Levy (The Fleckstones) eingeführten Spielweise
  der diatonischen Mundharmonika. Messinger schreibt nuancierte\, charakter
 volle Songs in unterschiedlichen Stilen\, denn „unterschiedliche Geschic
 hten erfordern unterschiedliche musikalische Stile\, um erzählt zu werden
 “\, sagt er.\nMessingers anhaltende Leidenschaft gilt der Geschichte und
  den Menschen. So liegt sein künstlerischer Fokus auf dem Geschichtenerz
 ählen ebendieser Menschen.\n\nIm Juli 2018 ist Paul Messinger mit seiner 
 Band The Suspects erstmals auf Deutschlandtour um sich dem hiesigen Publik
 um einmal live zu präsentieren.\n\n&nbsp\;
ATTACH;FMTTYPE=image/jpeg:https://kneipenkonzerte.de/wp-content/uploads/20
 18/06/paul-messinger-live-2018.jpg
CATEGORIES:Singer/Songwriter
LOCATION:Harrier Hof\, Harrier Straße 12\, Brake (Unterweser)\, Niedersach
 sen\, 26919\, Bremen\, Deutschland
GEO:53.32018;8.483820000000037
X-APPLE-STRUCTURED-LOCATION;VALUE=URI;X-ADDRESS=Harrier Straße 12\, Brake 
 (Unterweser)\, Niedersachsen\, 26919\, Bremen\, Deutschland;X-APPLE-RADIUS
 =100;X-TITLE=Harrier Hof:geo:53.32018,8.483820000000037
END:VEVENT
BEGIN:VTIMEZONE
TZID:Europe/Berlin
X-LIC-LOCATION:Europe/Berlin
BEGIN:DAYLIGHT
DTSTART:20180325T030000
TZOFFSETFROM:+0100
TZOFFSETTO:+0200
TZNAME:CEST
END:DAYLIGHT
END:VTIMEZONE
END:VCALENDAR