BEGIN:VCALENDAR
VERSION:2.0
PRODID:-//wp-events-plugin.com//7.2.3.1//EN
TZID:Europe/Berlin
X-WR-TIMEZONE:Europe/Berlin
BEGIN:VEVENT
UID:4054@kneipenkonzerte.de
DTSTART;TZID=Europe/Berlin:20200125T193000
DTEND;TZID=Europe/Berlin:20200125T233000
DTSTAMP:20200120T115804Z
URL:https://kneipenkonzerte.de/veranstaltungen/peter-klaus-im-fishermans/
SUMMARY:Peter & Klaus im Fisherman's
DESCRIPTION:Ein wohltuender Sound in Zeiten häufig überproduzierter Musik
 titel. Sie spielen Songs u.a. von Liedermachern wie Klaus Hoffmann\, Reinh
 ard Mey\, Stephan Sulke\, Mario Hené\, Pete "Wyoming" Bender. u.v.a.\n\nA
 ls Chanson-Duo Peter &amp\; Klaus widmen sie sich den Liedern\, die Geschi
 chten erzählen.\n\nMal lustig\, mal nachdenklich oder skurril. Sie interp
 retieren (die teils) bekannte(n) und teilweise auch selten gespielten Song
 s auf das Wesentliche verdichtet. Peter Teichmann singt die Songs nicht nu
 r – er lebt sie und wird dabei genial einfühlsam von Klaus Hofsäss am 
 Piano begleitet.\n\nBeginn 19:30 Uhr\n\nEnde 23:30 Uhr\n\nWir freuen uns a
 uf einen schönen Abend am Kamin!\n\nEintritt frei- Der Hut geht um!\n\nBa
 nd Homepage: peterundklaus.de\n\nEingetragen von Veranstaltungsportale.de\
 n\nKünstler / Mitwirkende\n\nPeter Teichmann ( Gesang ) Klaus Hodsäss ( 
 Piano )
ATTACH;FMTTYPE=image/jpeg:https://kneipenkonzerte.de/wp-content/uploads/20
 20/01/PK-Rantastic.jpg
CATEGORIES:Singer/Songwriter
LOCATION:Fisherman's\, Industriestr. 3\, Lichtenau\, Baden-Württemberg\, 7
 7839\, Rhein-Main\, Deutschland
GEO:48.735356;7.975613
X-APPLE-STRUCTURED-LOCATION;VALUE=URI;X-ADDRESS=Industriestr. 3\, Lichtenau
 \, Baden-Württemberg\, 77839\, Rhein-Main\, Deutschland;X-APPLE-RADIUS=10
 0;X-TITLE=Fisherman's:geo:48.735356,7.975613
END:VEVENT
BEGIN:VTIMEZONE
TZID:Europe/Berlin
X-LIC-LOCATION:Europe/Berlin
BEGIN:STANDARD
DTSTART:20191027T020000
TZOFFSETFROM:+0200
TZOFFSETTO:+0100
TZNAME:CET
END:STANDARD
END:VTIMEZONE
END:VCALENDAR