BEGIN:VCALENDAR
VERSION:2.0
PRODID:-//wp-events-plugin.com//7.2.3.1//EN
TZID:Europe/Berlin
X-WR-TIMEZONE:Europe/Berlin
BEGIN:VEVENT
UID:2681@kneipenkonzerte.de
DTSTART;TZID=Europe/Berlin:20190213T180000
DTEND;TZID=Europe/Berlin:20190213T220000
DTSTAMP:20190128T145941Z
URL:https://kneipenkonzerte.de/veranstaltungen/planitzer-kuechenlieder-sem
 -seifert/
SUMMARY:Planitzer Küchenlieder: Sem Seifert
DESCRIPTION:Hallo liebe Musikfans\,\n\nauch in diesem Jahr bieten wir wiede
 r unser musikalische Highlight zum Mittwoch\, die Planitzer Küchenlieder\
 , an.\nDabei verbinden wir Musik und zum Künstler ein passendes Essen\, w
 elches direkt in der Küche serviert wird. Der Eintritt kostet 20€ zuzü
 gl. Getränke. Einlaß ist um 18Uhr\, anschließend kann schon in der Küc
 he gestöbert werden und 19Uhr beginnt das Konzert. In der Konzertpause ka
 nn noch einmal geschlemmt werden.\n\nDas erste Konzert bestreitet 2019 am 
 Mittwoch\, den 13.02. der Österreicher Sem Seifert (http://www.semoclock.
 com/) der schon über 240 Konzerte in Deutschland\, Benelux und auch in En
 gland auf den Simmbändern hat. Er bring Folk &amp\; Rock zusammen.
ATTACH;FMTTYPE=image/jpeg:https://kneipenkonzerte.de/wp-content/uploads/20
 19/01/SemAlteMolke3.jpg
CATEGORIES:Folk-Rock
LOCATION:Zum Adam\, Emil-Rosenow-Str. 23\, Zwickau\, Sachsen\, 08064\, Leip
 zig - Halle\, Deutschland
X-APPLE-STRUCTURED-LOCATION;VALUE=URI;X-ADDRESS=Emil-Rosenow-Str. 23\, Zwic
 kau\, Sachsen\, 08064\, Leipzig - Halle\, Deutschland;X-APPLE-RADIUS=100;X
 -TITLE=Zum Adam:geo:0,0
END:VEVENT
BEGIN:VTIMEZONE
TZID:Europe/Berlin
X-LIC-LOCATION:Europe/Berlin
BEGIN:STANDARD
DTSTART:20181028T020000
TZOFFSETFROM:+0200
TZOFFSETTO:+0100
TZNAME:CET
END:STANDARD
END:VTIMEZONE
END:VCALENDAR