BEGIN:VCALENDAR
VERSION:2.0
PRODID:-//wp-events-plugin.com//7.2.3.1//EN
TZID:Europe/Berlin
X-WR-TIMEZONE:Europe/Berlin
BEGIN:VEVENT
UID:2683@kneipenkonzerte.de
DTSTART;TZID=Europe/Berlin:20190508T180000
DTEND;TZID=Europe/Berlin:20190508T220000
DTSTAMP:20190129T123011Z
URL:https://kneipenkonzerte.de/veranstaltungen/planitzer-kuechenlieder-sta
 ndard-crow-behavior/
SUMMARY:Planitzer Küchenlieder: Standard Crow Behavior
DESCRIPTION:Hallo liebes Television-Team\,\n\nauch in diesem Jahr bieten wi
 r wieder unser musikalische Highlight zum Mittwoch\, die Planitzer Küchen
 lieder\, an.\nDabei verbinden wir Musik und zum Künstler ein passendes Es
 sen\, welches direkt in der Küche serviert wird. Der Eintritt kostet 20
 € zuzügl. Getränke. Einlaß ist um 18Uhr\, anschließend kann schon in
  der Küche gestöbert werden und 19Uhr beginnt das Konzert. In der Konzer
 tpause kann noch einmal geschlemmt werden.\n\nZum Abschluß des 1. Halbjah
 res bringt uns Standard Crow Behavior. Mit einer Mischung aus traditionell
 em Folk\, modernem Pop\,\ndurchkomponierter Musik und Jazz gespielt von dr
 ei jungen Musikern\,\ndie sich abwechseln an Gitarre\, Mandoline\, Banjo\,
  Geige und Violine.\nDas Programm besteht fast ausschließlich aus eigenen
  Songs und\nKompositionen angereichert mit kraftvollem\, dreistimmigem\nSa
 tzgesang. (www.standardcrowbehavior.com)\n\nMit freundlichen Grüßen\n\nD
 as Adam-Team
ATTACH;FMTTYPE=image/jpeg:https://kneipenkonzerte.de/wp-content/uploads/20
 16/05/kneipenkonzert-livemusik-veranstaltung-1.jpg
CATEGORIES:Weltmusik
LOCATION:Zum Adam\, Emil-Rosenow-Str. 23\, Zwickau\, Sachsen\, 08064\, Leip
 zig - Halle\, Deutschland
X-APPLE-STRUCTURED-LOCATION;VALUE=URI;X-ADDRESS=Emil-Rosenow-Str. 23\, Zwic
 kau\, Sachsen\, 08064\, Leipzig - Halle\, Deutschland;X-APPLE-RADIUS=100;X
 -TITLE=Zum Adam:geo:0,0
END:VEVENT
BEGIN:VTIMEZONE
TZID:Europe/Berlin
X-LIC-LOCATION:Europe/Berlin
BEGIN:DAYLIGHT
DTSTART:20190331T030000
TZOFFSETFROM:+0100
TZOFFSETTO:+0200
TZNAME:CEST
END:DAYLIGHT
END:VTIMEZONE
END:VCALENDAR