BEGIN:VCALENDAR
VERSION:2.0
PRODID:-//wp-events-plugin.com//7.2.3.1//EN
TZID:Europe/Berlin
X-WR-TIMEZONE:Europe/Berlin
BEGIN:VEVENT
UID:2275@kneipenkonzerte.de
DTSTART;TZID=Europe/Berlin:20180821T200000
DTEND;TZID=Europe/Berlin:20180821T233000
DTSTAMP:20180806T112609Z
URL:https://kneipenkonzerte.de/veranstaltungen/portless-hannover-2/
SUMMARY:Portless
DESCRIPTION:PORTLESS\, das ist Urban Country / Desert Rock mit rauchigem Te
 xMex-Einschlag\, der so gar nicht nach Norddeutschland klingt …\n\nPORTL
 ESS sind Menne Reimann – als Stimme und Kopf uneingeschränkt Chef des B
 and-Projekts – Tommy Krammling an den Drums\, Torge Bleicher am Bass. PO
 RTLESS sind frisch\, aber allesamt alte Hasen und in der Deutschen Musiker
 szene schon lange feste Größen.\n\nMit dem ersten Album „Lights“ hat
  die Band um Mastermind Menne Reimann eine kleine Verbeugung vor den pers
 önlichen Helden – in erster Linie Howe Gelb\, Tom Waits und Gun Club 
 – vorgelegt. Zum Zuhören. Zuhause oder in kleinen Clubs. Für die melan
 cholischen Momente und die Sehnsucht nach Tucson/Arizona und Weit-weg.
ATTACH;FMTTYPE=image/jpeg:https://kneipenkonzerte.de/wp-content/uploads/20
 16/05/portless_musik_filou.jpg
CATEGORIES:Americana,Country,Rock
LOCATION:Cafe Glocksee\, Glockseestraße 35\, \, Hannover\, Niedersachsen\,
  30169\, Hannover\, Deutschland
GEO:52.3719864;9.72053440000002
X-APPLE-STRUCTURED-LOCATION;VALUE=URI;X-ADDRESS=Glockseestraße 35\, \, Han
 nover\, Niedersachsen\, 30169\, Hannover\, Deutschland;X-APPLE-RADIUS=100;
 X-TITLE=Cafe Glocksee:geo:52.3719864,9.72053440000002
END:VEVENT
BEGIN:VTIMEZONE
TZID:Europe/Berlin
X-LIC-LOCATION:Europe/Berlin
BEGIN:DAYLIGHT
DTSTART:20180325T030000
TZOFFSETFROM:+0100
TZOFFSETTO:+0200
TZNAME:CEST
END:DAYLIGHT
END:VTIMEZONE
END:VCALENDAR