BEGIN:VCALENDAR
VERSION:2.0
PRODID:-//wp-events-plugin.com//7.2.3.1//EN
TZID:Europe/Berlin
X-WR-TIMEZONE:Europe/Berlin
BEGIN:VEVENT
UID:4927@kneipenkonzerte.de
DTSTART;TZID=Europe/Berlin:20220610T200000
DTEND;TZID=Europe/Berlin:20220610T223000
DTSTAMP:20220512T150703Z
URL:https://kneipenkonzerte.de/veranstaltungen/pulsar-trio/
SUMMARY:Pulsar Trio
DESCRIPTION:PULSAR TRIO - NEUES ALBUM »LIVE IN BERLIN«\n» Es ist ein mus
 ikalisches Gipfeltreffen der ungewöhnlichen Art. «\n\nTreibend\, pulsier
 end\, vital. Raffinierte Rhythmen\, freie Improvisation und Stücke\, dere
 n Melodien das Zeug zum Ohrwurm haben – mit scheinbar so gegensätzliche
 n Instrumenten wie Sitar\, Piano und Drums lässt das Pulsar Trio nicht nu
 r einen neuartigen Klangraum entstehen\, sondern auch eine groovige Fusio
 n aus freiem Jazzdenken und originären Worldbeats.\n\n»Trotz ihrer viele
 n Taktwechsel\, Breaks und Generalpausen wirkt [die Musik] nie verkopft od
 er kompliziert\, sondern bleibt stets nachvollziehbar und zugänglich\, vi
 elfach – dank eines ausgeprägten Gespürs für griffige Melodiebögen 
 – sogar geradezu eingängig.« (Harry Schmidt)\n\nDie creole – Preistr
 äger konnten die hohe Qualität ihrer musikalischen Entdeckungsreise auf 
 einer Vielzahl von Konzerten unter Beweis stellen. So gastierten sie u.a.
  auf den Leverkusener Jazztagen\, dem Fusion-Festival\, dem Glastonbury F
 estival\, dem Rudolstadt Festival sowie dem Jazzfestival Izmir.\n\nMit ihr
 em 3. Album »Zoo of Songs«\, das im April 2018 bei t3 records erschien\,
  erschließen sich die drei Musiker noch einmal ganz neue musikalische Sp
 hären – kontemplativ\, elektronisch\, rhythmisch listig\, energiegelade
 n und in satten Klangfarben präsentiert sich das Trio herausragend gereif
 t und mit diesem pointierten Freigeist\, der es so unverwechselbar macht.\
 n\nDas Pulsar Trio erinnert an andere progressive Jazztrios\, wie die Brit
 en GoGo Penguin\, oder das deutsche Michael Wollny Trio. Die Band erzeugt
  in ihrer Musik sinnliche Schwebezustände\, den Rausch des freien Falls 
 und das Dahingleiten über weite Flächen. — Till Lorenzen/Deutschlandr
 adio Tonart\, 04/2018 —\n\nSehr speziell und anregend … — Concerto/
 AT\, 02/2018 —\n\nSpielwitz und -freude ihres Dreigesprächs währen vom
  ersten bis zum letzten Ton. — Harry Schmidt\, LKZ\, 01/2018 —\n\nEin
  weltgereister\, grenzenfreier\, musikalischer Gourmettempel\, dieses Trio
 . … — Volly Tanner\, Schall\, 04/2016 —\n\nUnd stets schafft das Tr
 io ein lebendiges Ohrenkino mit vielen kleinen Kapiteln … — Stefan Fr
 anzen\, Jazzthing\, 04/05/2016 —
ATTACH;FMTTYPE=image/jpeg:https://kneipenkonzerte.de/wp-content/uploads/20
 22/05/pulsartrio_portrait_farbe-Andre-Stiebitz_kl-Kopie.jpg
CATEGORIES:Jazz,Weltmusik
LOCATION:WELTECHO\, Annaberger Str. 24\, Chemnitz\, Sachsen\, 09111\, Dresd
 en\, Deutschland
GEO:50.828459;12.920324
X-APPLE-STRUCTURED-LOCATION;VALUE=URI;X-ADDRESS=Annaberger Str. 24\, Chemni
 tz\, Sachsen\, 09111\, Dresden\, Deutschland;X-APPLE-RADIUS=100;X-TITLE=WE
 LTECHO:geo:50.828459,12.920324
END:VEVENT
BEGIN:VTIMEZONE
TZID:Europe/Berlin
X-LIC-LOCATION:Europe/Berlin
BEGIN:DAYLIGHT
DTSTART:20220327T030000
TZOFFSETFROM:+0100
TZOFFSETTO:+0200
TZNAME:CEST
END:DAYLIGHT
END:VTIMEZONE
END:VCALENDAR