BEGIN:VCALENDAR
VERSION:2.0
PRODID:-//wp-events-plugin.com//7.2.3.1//EN
TZID:Europe/Berlin
X-WR-TIMEZONE:Europe/Berlin
BEGIN:VEVENT
UID:4947@kneipenkonzerte.de
DTSTART;TZID=Europe/Berlin:20221122T200000
DTEND;TZID=Europe/Berlin:20221122T230000
DTSTAMP:20220523T120256Z
URL:https://kneipenkonzerte.de/veranstaltungen/q-bic-hannover/
SUMMARY:Q-Bic
DESCRIPTION:Die Soul-Funker von Q-bic machten sich schon kurz nach ihrer Ba
 ndgründung 1998 einen Namen als exzellente Live-Band und das nicht nur in
  der hannoverschen Szene. Neben zahlreichen Auftritten in renommierten han
 noverschen Clubs (GiG Linden\, Palo Palo\, Capitol\, Eve Klub etc.) und be
 i großen Festivals (Maschseefest\, Emergenza Finale etc. ) in der Region 
 Hannover\, brachten Q-bic auch schon das tanzwütige Party-Volk in Städte
 n wie Bremen\, Lüneburg (WunderBar\, Wasserturm)\, Münster(Hot Jazz Club
 )\, Kassel\, Kiel(Kieler Woche)\, Hamburg (u.a. Alstervergnügen Hauptbüh
 ne/Radio Antenne\,Hörsaal\, Pooca\, freundlich+kompetent) oder Berlin (Sz
 ene Club "90 Grad"\, Aufsturz) zum grooven.\nDas rhythmische Element spiel
 t eine tragende Rolle in der Musik von Q-bic\, darüber hinaus sind es abe
 r auch die feinfühligen\, transparenten Arrangements und die starken Hook
 lines der Songs\, die sich häufig in unaufdringlicher Weise in das Ohr de
 s Zuhörers winden\, sich dort schließlich festsetzen und die Fans handge
 machter Disco - Funk- und Soul-Musik begeistern.
ATTACH;FMTTYPE=image/jpeg:https://kneipenkonzerte.de/wp-content/uploads/20
 16/12/q-bic-2017-kisses-hugs-tour-steinhude.jpg
CATEGORIES:Funk
LOCATION:HÖLDERLIN Eins - Kulturhaus Kleefeld\, Hölderlinstraße 1\, Hann
 over\, Niedersachsen\, 30625 \, Hannover\, Deutschland
GEO:52.37408;9.785511
X-APPLE-STRUCTURED-LOCATION;VALUE=URI;X-ADDRESS=Hölderlinstraße 1\, Hanno
 ver\, Niedersachsen\, 30625 \, Hannover\, Deutschland;X-APPLE-RADIUS=100;X
 -TITLE=HÖLDERLIN Eins - Kulturhaus Kleefeld:geo:52.37408,9.785511
END:VEVENT
BEGIN:VTIMEZONE
TZID:Europe/Berlin
X-LIC-LOCATION:Europe/Berlin
BEGIN:STANDARD
DTSTART:20221030T020000
TZOFFSETFROM:+0200
TZOFFSETTO:+0100
TZNAME:CET
END:STANDARD
END:VTIMEZONE
END:VCALENDAR