BEGIN:VCALENDAR
VERSION:2.0
PRODID:-//wp-events-plugin.com//7.2.3.1//EN
TZID:Europe/Berlin
X-WR-TIMEZONE:Europe/Berlin
BEGIN:VEVENT
UID:4926@kneipenkonzerte.de
DTSTART;TZID=Europe/Berlin:20220526T200000
DTEND;TZID=Europe/Berlin:20220526T230000
DTSTAMP:20220512T150822Z
URL:https://kneipenkonzerte.de/veranstaltungen/reboot-the-mood/
SUMMARY:Reboot the Mood
DESCRIPTION:Wir sind 5 Nachwuchsmusiker der Hochschule für Musik Dresden\,
  die seit April 2021 gemeinsam Musik erarbeiten. Diese zeichnet sich durc
 h tanzbare Grooves\, stilistische Vielfältigkeit und berührende Songs m
 it Ohrwurmgarantie aus. Unsere harmonische Gruppendynamik und einhergehend
 e Begeisterung für die Musik überträgt sich bei Livekonzerten wie von 
 selbst auf das Publikum.\n\nLaurin sorgt für frische Melodien an Trompete
  und Flügelhorn\, Phil füllt mit zahnenden Gitarren Arpeggios auf\, Gab
 riel erfindet wunderschöne Harmoniefolgen auf Rhodes und Synthesizer und
  Neil liefert mit E-Bass und Bass Synthesizer das Fundament für die Schl
 agzeug Grooves von Moritz.\n\nEinlass: 20 Uhr | Konzert: 20:30 Uhr | Eintr
 itt: 12 €
ATTACH;FMTTYPE=image/jpeg:https://kneipenkonzerte.de/wp-content/uploads/20
 22/05/IMG_5373-Kopie.jpg
CATEGORIES:Alternative,Jazz
LOCATION:WELTECHO\, Annaberger Str. 24\, Chemnitz\, Sachsen\, 09111\, Dresd
 en\, Deutschland
GEO:50.828459;12.920324
X-APPLE-STRUCTURED-LOCATION;VALUE=URI;X-ADDRESS=Annaberger Str. 24\, Chemni
 tz\, Sachsen\, 09111\, Dresden\, Deutschland;X-APPLE-RADIUS=100;X-TITLE=WE
 LTECHO:geo:50.828459,12.920324
END:VEVENT
BEGIN:VTIMEZONE
TZID:Europe/Berlin
X-LIC-LOCATION:Europe/Berlin
BEGIN:DAYLIGHT
DTSTART:20220327T030000
TZOFFSETFROM:+0100
TZOFFSETTO:+0200
TZNAME:CEST
END:DAYLIGHT
END:VTIMEZONE
END:VCALENDAR