BEGIN:VCALENDAR
VERSION:2.0
PRODID:-//wp-events-plugin.com//7.2.3.1//EN
TZID:Europe/Berlin
X-WR-TIMEZONE:Europe/Berlin
BEGIN:VEVENT
UID:599@kneipenkonzerte.de
DTSTART;TZID=Europe/Berlin:20161022T193000
DTEND;TZID=Europe/Berlin:20161022T223000
DTSTAMP:20161018T100118Z
URL:https://kneipenkonzerte.de/veranstaltungen/riddle-and-the-stars/
SUMMARY:Riddle and the Stars
DESCRIPTION:Riddle &amp\; The Stars ist ein gemeinsames Projekt von dem aus
 tralischen Singer/Songwriter Ben Riddle und der American Rockband The Fall
 en Stars\, bestehend aus Tracy und Bobbo Byrnes.\nDie Drei haben sich auf 
 ihrer „Songs &amp\; Whispers“ – Circuit Tournee im Juli 2013 kennen 
 gelernt. Dort teilten sie sich neben einer Wohnung auch das eine oder ande
 re Live Konzert und begannen sich nach einiger Zeit gegenseitig bei ihren 
 Songs zu begleiten.\nNach einigen Probeaufnahmen im Studio war die Band Ri
 ddle &amp\; The Stars geboren und keine sechs Monate später hielten die M
 itglieder das erste Album „This Is Happening“ in den Händen. Musikali
 sch bewegt sich das Trio irgendwo zwischen Indie\, Americana und Folk\, wo
 bei The Fallen Stars für die rockigen Parts verantwortlich sind und Ben R
 iddle mit seinem melodischen\, eher ruhigen Songwriting besticht. Nach aus
 gedehnten Tourneen durch Europa und die USA hat die Band genug Material f
 ür neue Songs gesammelt. Im zweiten Album „New Coastline“ verewigen B
 en Riddle und The Fallen Stars einerseits ihre Tourerfahrungen\, andererse
 its gehen sie der Bedeutung von Heimat auf den Grund.\nAufgenommen wurde 
 „New Coastline“ aus der Ferne – Tracy und Bobbo Byrnes haben ihre Id
 een dank neuster Technologien mit Ben Riddle über Skype und Co ausgetausc
 ht. “Even just ten years ago\, a collaborative project like this could n
 ot have been survived” lautet ein Statement der Band. Diese Nähe trotz 
 Distanz hat den Entstehungsprozess maßgeblich beeinflusst.\nSo beschreibt
  die erste Single des Albums „Long Way Down“ ein Gefühl von Heimat\, 
 das sich weit mehr auf die Personen bezieht\, mit denen man zusammen ist\,
  als auf einen bestimmten Ort.\nMit “New Coastline” Riddle &amp\; The 
 Stars demonstrieren\, dass Reisen\, Musik und Freundschaft als universelle
  Kraft\, die Welt zumindest ein bisschen näher zusammen bringen können.
ATTACH;FMTTYPE=image/jpeg:https://kneipenkonzerte.de/wp-content/uploads/20
 16/05/kneipenkonzert-livemusik-veranstaltung-1.jpg
CATEGORIES:Americana,Blues
LOCATION:Harrier Hof\, Harrier Straße 12\, Brake (Unterweser)\, Niedersach
 sen\, 26919\, Bremen\, Deutschland
GEO:53.32018;8.483820000000037
X-APPLE-STRUCTURED-LOCATION;VALUE=URI;X-ADDRESS=Harrier Straße 12\, Brake 
 (Unterweser)\, Niedersachsen\, 26919\, Bremen\, Deutschland;X-APPLE-RADIUS
 =100;X-TITLE=Harrier Hof:geo:53.32018,8.483820000000037
END:VEVENT
BEGIN:VTIMEZONE
TZID:Europe/Berlin
X-LIC-LOCATION:Europe/Berlin
BEGIN:DAYLIGHT
DTSTART:20160327T030000
TZOFFSETFROM:+0100
TZOFFSETTO:+0200
TZNAME:CEST
END:DAYLIGHT
END:VTIMEZONE
END:VCALENDAR