BEGIN:VCALENDAR
VERSION:2.0
PRODID:-//wp-events-plugin.com//7.2.3.1//EN
TZID:Europe/Berlin
X-WR-TIMEZONE:Europe/Berlin
BEGIN:VEVENT
UID:5789@kneipenkonzerte.de
DTSTART;TZID=Europe/Berlin:20220624T200000
DTEND;TZID=Europe/Berlin:20220624T230000
DTSTAMP:20220616T123459Z
URL:https://kneipenkonzerte.de/veranstaltungen/robert-jon-and-the-wreck-do
 rtmund/
SUMMARY:Robert Jon and the Wreck
DESCRIPTION:
ATTACH;FMTTYPE=image/jpeg:https://kneipenkonzerte.de/wp-content/uploads/20
 16/05/robert-jon-and-the-wreck.jpg
CATEGORIES:Blues
LOCATION:Musiktheater Piano\, Lütgendortmunder Str. 43\, Dortmund\, NRW\, 
 44388 \, Ruhrgebiet\, Deutschland
GEO:51.498909;7.349244
X-APPLE-STRUCTURED-LOCATION;VALUE=URI;X-ADDRESS=Lütgendortmunder Str. 43\,
  Dortmund\, NRW\, 44388 \, Ruhrgebiet\, Deutschland;X-APPLE-RADIUS=100;X-T
 ITLE=Musiktheater Piano:geo:51.498909,7.349244
END:VEVENT
BEGIN:VTIMEZONE
TZID:Europe/Berlin
X-LIC-LOCATION:Europe/Berlin
BEGIN:DAYLIGHT
DTSTART:20220327T030000
TZOFFSETFROM:+0100
TZOFFSETTO:+0200
TZNAME:CEST
END:DAYLIGHT
END:VTIMEZONE
END:VCALENDAR