BEGIN:VCALENDAR
VERSION:2.0
PRODID:-//wp-events-plugin.com//7.2.3.1//EN
TZID:Europe/Berlin
X-WR-TIMEZONE:Europe/Berlin
BEGIN:VEVENT
UID:5791@kneipenkonzerte.de
DTSTART;TZID=Europe/Berlin:20220701T200000
DTEND;TZID=Europe/Berlin:20220701T230000
DTSTAMP:20220616T123717Z
URL:https://kneipenkonzerte.de/veranstaltungen/robert-jon-and-the-wreck-kr
 efeld/
SUMMARY:Robert Jon and the Wreck
DESCRIPTION:
ATTACH;FMTTYPE=image/jpeg:https://kneipenkonzerte.de/wp-content/uploads/20
 16/05/robert-jon-and-the-wreck.jpg
CATEGORIES:Blues
LOCATION:Kulturrampe Krefeld\, Oppumer Str. 175 \, Krefeld\, NRW\, 47799 \,
  Ruhrgebiet\, Deutschland
GEO:51.3330766;6.589540199999988
X-APPLE-STRUCTURED-LOCATION;VALUE=URI;X-ADDRESS=Oppumer Str. 175 \, Krefeld
 \, NRW\, 47799 \, Ruhrgebiet\, Deutschland;X-APPLE-RADIUS=100;X-TITLE=Kult
 urrampe Krefeld:geo:51.3330766,6.589540199999988
END:VEVENT
BEGIN:VTIMEZONE
TZID:Europe/Berlin
X-LIC-LOCATION:Europe/Berlin
BEGIN:DAYLIGHT
DTSTART:20220327T030000
TZOFFSETFROM:+0100
TZOFFSETTO:+0200
TZNAME:CEST
END:DAYLIGHT
END:VTIMEZONE
END:VCALENDAR