BEGIN:VCALENDAR
VERSION:2.0
PRODID:-//wp-events-plugin.com//7.2.3.1//EN
TZID:Europe/Berlin
X-WR-TIMEZONE:Europe/Berlin
BEGIN:VEVENT
UID:5790@kneipenkonzerte.de
DTSTART;TZID=Europe/Berlin:20220626T200000
DTEND;TZID=Europe/Berlin:20220626T230000
DTSTAMP:20220616T123554Z
URL:https://kneipenkonzerte.de/veranstaltungen/robert-jon-and-the-wreck/
SUMMARY:Robert Jon and the Wreck
DESCRIPTION:
ATTACH;FMTTYPE=image/jpeg:https://kneipenkonzerte.de/wp-content/uploads/20
 16/05/robert-jon-and-the-wreck.jpg
CATEGORIES:Blues
LOCATION:St. Barbara\, Hauptstraße 30\, Lichtentanne\, Sachsen\, 08115\, C
 hemnitz\, Deutschland
GEO:50.69512;12.425579999999968
X-APPLE-STRUCTURED-LOCATION;VALUE=URI;X-ADDRESS=Hauptstraße 30\, Lichtenta
 nne\, Sachsen\, 08115\, Chemnitz\, Deutschland;X-APPLE-RADIUS=100;X-TITLE=
 St. Barbara:geo:50.69512,12.425579999999968
END:VEVENT
BEGIN:VTIMEZONE
TZID:Europe/Berlin
X-LIC-LOCATION:Europe/Berlin
BEGIN:DAYLIGHT
DTSTART:20220327T030000
TZOFFSETFROM:+0100
TZOFFSETTO:+0200
TZNAME:CEST
END:DAYLIGHT
END:VTIMEZONE
END:VCALENDAR