BEGIN:VCALENDAR
VERSION:2.0
PRODID:-//wp-events-plugin.com//7.2.3.1//EN
TZID:Europe/Berlin
X-WR-TIMEZONE:Europe/Berlin
BEGIN:VEVENT
UID:4941@kneipenkonzerte.de
DTSTART;TZID=Europe/Berlin:20220526T200000
DTEND;TZID=Europe/Berlin:20220526T230000
DTSTAMP:20220520T105748Z
URL:https://kneipenkonzerte.de/veranstaltungen/samantha-martin-delta-sugar
 /
SUMMARY:Samantha Martin &amp\; Delta Sugar
DESCRIPTION:Samantha Martin &amp\; Delta Sugar haben 2021 bei uns ein grand
 ioses Konzert abgeliefert und sind sie wieder da.....\n\nNach bereits drei
  erfolgreichen Runden durch die Alte Welt 2019\, kommt Torontos Zugpferd i
 n Sachen Soul mit einem brandneuen Album\, veröffentlicht bei Gypsy Recor
 d. Ihr Repertoire umfasst Soul - Roots - Blues - Gospel\n\n2018 CIMA Road 
 Gold Award\, 2019 Juno Nominee\, 13 times Maple Blues Awards Nominee\, Run
 ner up for 2015 and 2019 Toronto Blues Society - Cobalt Prize for best con
 temporary blues composition\n\nMartin ist die Leadsängerin mit Songwritin
 g und Mittelpunkt der Gruppe. Als dynamische Frontfrau besitzt sie eine at
 emberaubende Stimme\, die in der Lage ist\, in einem Moment Flutwellen mit
  prickelnden Emotionen hervorzurufen\, während sie im nächsten Moment di
 e Nuancen einer Lyrik hervorhebt\, die den Magen zerreißt. Eine heiße Kr
 aft der Natur\, Nacht für Nacht bringt sie das Publikum zu emotionalen H
 öhen und lässt es mit ihrer puren Pin-you-against-the-Wall-Kraft überw
 ältigen.\n\nWährend Martin ein Kraftpaket für sich ist\, ist die stimml
 iche Alchemie von Delta Sugar nicht das Werk eines einzigen Talents. In Ko
 mbination mit dem\, was sie gerne als ihre „Co-Sänger“ Sherie Marshal
 l und Mwansa Mwansa bezeichnet\, ist die von Delta Sugar produzierte Vokal
 mischung pure\, unverfälschte Magie mit einem Hauch von Gospel und Nerven
 kitzel.
ATTACH;FMTTYPE=image/jpeg:https://kneipenkonzerte.de/wp-content/uploads/20
 22/05/IMG_8221-1024x576-1.jpg
CATEGORIES:Soul
LOCATION:Club am Donnerstag / Happy Billard\, Kurt-A.-Körber-Chaussee 73 \
 , Hamburg Bergedorf\, Hamburg\, 21033 \, Hamburg\, Deutschland
GEO:53.489083;10.192384
X-APPLE-STRUCTURED-LOCATION;VALUE=URI;X-ADDRESS=Kurt-A.-Körber-Chaussee 73
  \, Hamburg Bergedorf\, Hamburg\, 21033 \, Hamburg\, Deutschland;X-APPLE-R
 ADIUS=100;X-TITLE=Club am Donnerstag / Happy Billard:geo:53.489083,10.1923
 84
END:VEVENT
BEGIN:VTIMEZONE
TZID:Europe/Berlin
X-LIC-LOCATION:Europe/Berlin
BEGIN:DAYLIGHT
DTSTART:20220327T030000
TZOFFSETFROM:+0100
TZOFFSETTO:+0200
TZNAME:CEST
END:DAYLIGHT
END:VTIMEZONE
END:VCALENDAR