BEGIN:VCALENDAR
VERSION:2.0
PRODID:-//wp-events-plugin.com//7.2.3.1//EN
TZID:Europe/Berlin
X-WR-TIMEZONE:Europe/Berlin
BEGIN:VEVENT
UID:4963@kneipenkonzerte.de
DTSTART;TZID=Europe/Berlin:20220701T193000
DTEND;TZID=Europe/Berlin:20220701T213000
DTSTAMP:20220530T075531Z
URL:https://kneipenkonzerte.de/veranstaltungen/schlagerparty-open-air/
SUMMARY:Schlagerparty Open Air
DESCRIPTION:Mega Schlagerparty\nFreut euch auf einen mega Abend mit den Vie
 rnheimer Schlagerstars in unserem Eventgarten! Partystimmung &amp\; Schlag
 erhits garantiert: Bei Songs wie "Ohne Dich"\, „Verdammt lang her“ ode
 r „Die immer lacht“ kann jeder mitsingen! #partystimmung #geilemucke #
 summerfeeling\n\nEinlass: 18:30 Uhr\nBeginn: 19:30 Uhr\nEintritt: 10\,00 
 €
ATTACH;FMTTYPE=image/jpeg:https://kneipenkonzerte.de/wp-content/uploads/20
 22/05/Plakat-2022-Quadratisch-7.jpg
CATEGORIES:Schlager
LOCATION:HeimatRock\, Neckarstraße 62\, Ladenburg\, Baden-Württemberg/ De
 utschland\, 68526\, Stuttgart\, Deutschland
GEO:49.46255;8.609516
X-APPLE-STRUCTURED-LOCATION;VALUE=URI;X-ADDRESS=Neckarstraße 62\, Ladenbur
 g\, Baden-Württemberg/ Deutschland\, 68526\, Stuttgart\, Deutschland;X-AP
 PLE-RADIUS=100;X-TITLE=HeimatRock:geo:49.46255,8.609516
END:VEVENT
BEGIN:VTIMEZONE
TZID:Europe/Berlin
X-LIC-LOCATION:Europe/Berlin
BEGIN:DAYLIGHT
DTSTART:20220327T030000
TZOFFSETFROM:+0100
TZOFFSETTO:+0200
TZNAME:CEST
END:DAYLIGHT
END:VTIMEZONE
END:VCALENDAR