BEGIN:VCALENDAR
VERSION:2.0
PRODID:-//wp-events-plugin.com//7.2.3.1//EN
TZID:Europe/Berlin
X-WR-TIMEZONE:Europe/Berlin
BEGIN:VEVENT
UID:4082@kneipenkonzerte.de
DTSTART;TZID=Europe/Berlin:20200521T123000
DTEND;TZID=Europe/Berlin:20200521T150000
DTSTAMP:20200129T110150Z
URL:https://kneipenkonzerte.de/veranstaltungen/solid-road-2/
SUMMARY:Solid Road
DESCRIPTION:Konzert in der Villa Lina\n„Solid Road“ spielen Songs von b
 ekannten und weniger bekannten Blues- und Rockgrößen\, wie Eric Clapton\
 , Rory Gallagher\, Michael Burks und Jimi Hendrix\; aber auch von Jonny La
 ng\, Ansley Lister und Lazer Lloyd.\nDie beiden langjährigen Musiker Joha
 nnes Beierlein und Axel Hasebrink bilden seit 2017 das Duo „Solid Road
 “ und nähern sich mit elektrischer und akustischer Gitarre sowie Gesang
  den Originalen. Dabei steht die Lust auf Nachspielen und Verändern\, Imp
 rovisation und Begeisterung erzeugen im Vordergrund.\nEintritt frei!\nUm e
 ine Spende wird gebeten!
ATTACH;FMTTYPE=image/jpeg:https://kneipenkonzerte.de/wp-content/uploads/20
 16/05/kneipenkonzert-livemusik-veranstaltung-1.jpg
CATEGORIES:Blues
LOCATION:Villa Lina\, Villa Lina\, Weg zur Schanz 1\, 76332 Bad Herrenalb\,
  Baden-Würrtemberg\, 76332\, Rhein-Main\, Deutschland
GEO:48.79518;8.43747
X-APPLE-STRUCTURED-LOCATION;VALUE=URI;X-ADDRESS=Villa Lina\, Weg zur Schanz
  1\, 76332 Bad Herrenalb\, Baden-Würrtemberg\, 76332\, Rhein-Main\, Deuts
 chland;X-APPLE-RADIUS=100;X-TITLE=Villa Lina:geo:48.79518,8.43747
END:VEVENT
BEGIN:VTIMEZONE
TZID:Europe/Berlin
X-LIC-LOCATION:Europe/Berlin
BEGIN:DAYLIGHT
DTSTART:20200329T030000
TZOFFSETFROM:+0100
TZOFFSETTO:+0200
TZNAME:CEST
END:DAYLIGHT
END:VTIMEZONE
END:VCALENDAR