BEGIN:VCALENDAR
VERSION:2.0
PRODID:-//wp-events-plugin.com//7.2.3.1//EN
TZID:Europe/Berlin
X-WR-TIMEZONE:Europe/Berlin
BEGIN:VEVENT
UID:7082@kneipenkonzerte.de
DTSTART;TZID=Europe/Berlin:20250329T200000
DTEND;TZID=Europe/Berlin:20250329T230000
DTSTAMP:20250314T150900Z
URL:https://kneipenkonzerte.de/veranstaltungen/sorry-bernd/
SUMMARY:Sorry Bernd
DESCRIPTION:
LOCATION:Plunschli\, Husbyries 1\, Husby\, Schleswig-Holstein\, 24957 \, De
 utschland
GEO:54.76585;9.599379999999996
X-APPLE-STRUCTURED-LOCATION;VALUE=URI;X-ADDRESS=Husbyries 1\, Husby\, Schle
 swig-Holstein\, 24957 \, Deutschland;X-APPLE-RADIUS=100;X-TITLE=Plunschli:
 geo:54.76585,9.599379999999996
END:VEVENT
BEGIN:VTIMEZONE
TZID:Europe/Berlin
X-LIC-LOCATION:Europe/Berlin
BEGIN:STANDARD
DTSTART:20241027T020000
TZOFFSETFROM:+0200
TZOFFSETTO:+0100
TZNAME:CET
END:STANDARD
END:VTIMEZONE
END:VCALENDAR