BEGIN:VCALENDAR
VERSION:2.0
PRODID:-//wp-events-plugin.com//7.2.3.1//EN
TZID:Europe/Berlin
X-WR-TIMEZONE:Europe/Berlin
BEGIN:VEVENT
UID:1910@kneipenkonzerte.de
DTSTART;TZID=Europe/Berlin:20180728T210000
DTEND;TZID=Europe/Berlin:20180728T230000
DTSTAMP:20180630T145056Z
URL:https://kneipenkonzerte.de/veranstaltungen/space-tigers-trio/
SUMMARY:Space Tigers Trio
DESCRIPTION:Space Tigers Trio\nCall it Jazz\, Grunge\, Funk or Electro the 
 Space Tigers it’s irrelevant because it is a Berlin style. Be aware of t
 he invasion\, it is not just a group it’s a movement\, the Berlin Martia
 l Arts of Music.\n\nGrgur Savic – alt saxophone/compositions\nVanja Kevr
 esan – el.guitar/compositions\nVega Jesus – drums\n\nEintritt frei - u
 m angemessenen Kulturbeitrag wird gebeten.
ATTACH;FMTTYPE=image/jpeg:https://kneipenkonzerte.de/wp-content/uploads/20
 18/06/space-tigers-pic-by-emilija-kortus.jpg
CATEGORIES:Jazz
LOCATION:Peppi Guggenheim\, Weichselstrasse 7 \, Berlin\, Berlin\, 12043 \,
  Berlin\, Deutschland
GEO:52.48419999999999;13.433250000000044
X-APPLE-STRUCTURED-LOCATION;VALUE=URI;X-ADDRESS=Weichselstrasse 7 \, Berlin
 \, Berlin\, 12043 \, Berlin\, Deutschland;X-APPLE-RADIUS=100;X-TITLE=Peppi
  Guggenheim:geo:52.48419999999999,13.433250000000044
END:VEVENT
BEGIN:VTIMEZONE
TZID:Europe/Berlin
X-LIC-LOCATION:Europe/Berlin
BEGIN:DAYLIGHT
DTSTART:20180325T030000
TZOFFSETFROM:+0100
TZOFFSETTO:+0200
TZNAME:CEST
END:DAYLIGHT
END:VTIMEZONE
END:VCALENDAR