BEGIN:VCALENDAR
VERSION:2.0
PRODID:-//wp-events-plugin.com//7.2.3.1//EN
TZID:Europe/Berlin
X-WR-TIMEZONE:Europe/Berlin
BEGIN:VEVENT
UID:4057@kneipenkonzerte.de
DTSTART;TZID=Europe/Berlin:20200222T210000
DTEND;TZID=Europe/Berlin:20200222T230000
DTSTAMP:20200120T120701Z
URL:https://kneipenkonzerte.de/veranstaltungen/stones-blues-inc/
SUMMARY:Stone's Blues Inc.
DESCRIPTION:STONE'S BLUES INC ist die neue Blues-Formation aus dem Mühlent
 al: sieben erfahrene Livemusiker\, die fernab des üblichen Cover-Mainstre
 ams erfrischend miitreißende wie gefühlvollle Blues-Arrangements mit Ein
 würfen aus Boogie\, Jazz\, Soul\, Funk und Rock präsentieren.
ATTACH;FMTTYPE=image/jpeg:https://kneipenkonzerte.de/wp-content/uploads/20
 20/01/200222-Alte-Post-klein.jpg
CATEGORIES:Blues
LOCATION:Zur alten Post\, Karmelitergasse 6\, Wegberg\, NRW\, 41844\, Köln
 \, Deutschland
GEO:51.14054;6.27807
X-APPLE-STRUCTURED-LOCATION;VALUE=URI;X-ADDRESS=Karmelitergasse 6\, Wegberg
 \, NRW\, 41844\, Köln\, Deutschland;X-APPLE-RADIUS=100;X-TITLE=Zur alten 
 Post:geo:51.14054,6.27807
END:VEVENT
BEGIN:VTIMEZONE
TZID:Europe/Berlin
X-LIC-LOCATION:Europe/Berlin
BEGIN:STANDARD
DTSTART:20191027T020000
TZOFFSETFROM:+0200
TZOFFSETTO:+0100
TZNAME:CET
END:STANDARD
END:VTIMEZONE
END:VCALENDAR